BEGIN:VCALENDAR
VERSION:2.0
PRODID:-//wp-events-plugin.com//7.1.7//EN
BEGIN:VEVENT
UID:9256@powiat.poznan.pl
DTSTART:20250801T200000Z
DTEND:20250802T004500Z
DTSTAMP:20250729T104905Z
URL:https://powiat.poznan.pl/events/noc-ciemna-3/
SUMMARY:NOC CIEMna
DESCRIPTION:1 sierpnia Ośrodek Edukacji Przyrodniczo-Leśnej „Dziewicza 
 Góra”\, zaprasza do odkrywania niesamowitego świata nocnych motyli. NO
 C CIEMna to niepowtarzalna okazja\, aby zobaczyć z bliska rodzime gatunki
  i zachwycić się różnorodnością ich kształtów i barw\, a także po
 znać  ich zwyczaje. Prelegentem i specjalistą podczas obserwacji owadó
 w zwabionych do ekranu będzie miłośnik entomologii i fotografii – Prz
 emysław Wieczorek.\n\n\nW ramach wydarzenia zaplanowano także warsztaty 
 plastyczne i survivalowe ukazujące właściwości drewna\, pracę leśnik
 ów oraz zasady prowadzenia zrównoważonej gospodarki leśnej. Równolegl
 e prowadzone będą warsztaty laboratoryjne z pasjonatami entomologii z Se
 kcji Entomologicznej Koła Leśników z Uniwersytetu Przyrodniczego w Pozn
 aniu. Wydarzenie uświetni obecność łączącej pasję do szycia i zami
 łowanie do entomologii Moniki Malerowicz i wykonane przez nią pluszowe 
 ćmy\, dzięki którym można oswajać się z owadami i przekonać się\, 
 że nie są takie straszne jak je malują (i szyją).\n\nPonadto możliwe 
 będzie skorzystanie z Nocnego Wejścia na Wieżę Widokową na Dziewiczej
  Górze w godzinach 20:00-02:00 oraz z ogniska. Prowiant na ognisko należ
 y dostarczyć we własnym zakresie.\n\nProgram:\nTura I godz. 21:00-23:15\
 n- 21:00-21:45 Prelekcja\n- 21:45-23:15 Obserwacje przy ekranie / Warsztat
 y mikroskopowe i survivalowe\n\nTura II godz. 23:30-01:45\n- 23:30-00:15 P
 relekcja\n- 00:15-01:45 Obserwacje przy ekranie / Warsztaty mikroskopowe i
  survivalowe\n\nLiczba miejsc ograniczona. Obowiązują zapisy! Zaintereso
 wane osoby prosimy o przesłanie zgłoszenia mailowo na adres: patrycja.kl
 imczak@poznan.lasy.gov.pl (w mailu prosimy uwzględnić liczbę zgłoszony
 ch osób\, informację czy są wśród nich dzieci\, preferowaną turę wy
 darzenia - godz. 21:00 lub 23:30). Otrzymają Państwo mailową odpowiedź
  z potwierdzeniem rezerwacji. Szczegóły na stronie Nadleśnictwa Łopuch
 ówko.\n\n\n\n
ATTACH;FMTTYPE=image/jpeg:https://powiat.poznan.pl/wp-content/uploads/2025
 /07/fb-tlo.png
CATEGORIES:Dla dzieci,Ekologia,Rozrywka,Turystyka i rekreacja
LOCATION:Ośrodek Edukacji Przyrodniczo - Leśnej "Dziewicza Góra"\, Dziew
 icza Góra 4\, Czerwonak\, 62-004\, Poland
GEO:52.4818842;17.00550709999993
X-APPLE-STRUCTURED-LOCATION;VALUE=URI;X-ADDRESS=Dziewicza Góra 4\, Czerwon
 ak\, 62-004\, Poland;X-APPLE-RADIUS=100;X-TITLE=Ośrodek Edukacji Przyrodn
 iczo - Leśnej \"Dziewicza Góra\":geo:52.4818842,17.00550709999993
END:VEVENT
END:VCALENDAR