BEGIN:VCALENDAR
VERSION:2.0
PRODID:-//wp-events-plugin.com//7.1.7//EN
BEGIN:VEVENT
UID:9094@powiat.poznan.pl
DTSTART:20250523T230000Z
DTEND:20250523T230000Z
DTSTAMP:20250522T094448Z
URL:https://powiat.poznan.pl/events/noc-muzeow-w-buku-3/
SUMMARY:Noc muzeów w Buku
DESCRIPTION:Już 24 maja br. wspólne odkrywanie historii. Motywem przewodn
 im tegorocznej edycji jest wyjątkowy jubileusz – obchodzimy 1000. roczn
 icę koronacji Bolesława Chrobrego. Zapraszamy do trzech niezwykłych mie
 jsc: dawnej synagogi\, kościoła św. Krzyża oraz na Plac Stanisława Re
 szki (Izba Muzealna Ziemi Bukowskiej oraz Kawiarnia Stopklatka).Czekają n
 a Was opowieści o dawnych czasach i wiele atrakcji!W programie m.in. auto
 rski koncert\, merytoryczne wykłady\, wyjątkowe wystawy oraz oferta dla 
 najmłodszych wielbicieli historii.Niech ta noc będzie pełna wrażeń i 
 niecodziennych odkryć!\n\n
ATTACH;FMTTYPE=image/jpeg:https://powiat.poznan.pl/wp-content/uploads/2025
 /05/b2.jpg
CATEGORIES:Dla dzieci,Dla seniora,Edukacja,Kultura i sztuka,Rozrywka
LOCATION:Buk\, buk\, buk\, Poland
GEO:52.35536;16.519559
X-APPLE-STRUCTURED-LOCATION;VALUE=URI;X-ADDRESS=buk\, buk\, Poland;X-APPLE-
 RADIUS=100;X-TITLE=Buk:geo:52.35536,16.519559
END:VEVENT
END:VCALENDAR