BEGIN:VCALENDAR
VERSION:2.0
PRODID:-//wp-events-plugin.com//7.1.7//EN
BEGIN:VEVENT
UID:8403@powiat.poznan.pl
DTSTART:20241015T170000Z
DTEND:20241015T170000Z
DTSTAMP:20240923T104308Z
URL:https://powiat.poznan.pl/events/o-muzyce-miedzy-drzewami/
SUMMARY:O Muzyce Między Drzewami
DESCRIPTION:O Muzyce Między Drzewami\n&nbsp\;\n\n
ATTACH;FMTTYPE=image/jpeg:https://powiat.poznan.pl/wp-content/uploads/2024
 /09/mozaika-o-muzyce-maly-1.jpg
CATEGORIES:Kultura i sztuka
LOCATION:Dom Kultury w Tarnowie Podgórnym -Gminny Ośrodek Kultury "SEZAM"
 \, ul. Ogrodowa 14\, Tarnowo Podgórne\,  62-080\, Poland
GEO:52.4346118;16.688943600000016
X-APPLE-STRUCTURED-LOCATION;VALUE=URI;X-ADDRESS=ul. Ogrodowa 14\, Tarnowo P
 odgórne\,  62-080\, Poland;X-APPLE-RADIUS=100;X-TITLE=Dom Kultury w Tarno
 wie Podgórnym -Gminny Ośrodek Kultury \"SEZAM\":geo:52.4346118,16.688943
 600000016
END:VEVENT
END:VCALENDAR