BEGIN:VCALENDAR
VERSION:2.0
PRODID:-//wp-events-plugin.com//7.1.7//EN
BEGIN:VEVENT
UID:9298@powiat.poznan.pl
DTSTART;VALUE=DATE:20250815
DTEND;VALUE=DATE:20250816
DTSTAMP:20250814T085955Z
URL:https://powiat.poznan.pl/events/obchody-100-lecia-osp-weglewo/
SUMMARY:Obchody 100-lecia OSP Węglewo
DESCRIPTION:Zapraszamy w piątek\, na obchody 100-lecia OSP Węglewo. Szcze
 gółowy program na plakacie.\n\n\n\n&nbsp\;
ATTACH;FMTTYPE=image/jpeg:https://powiat.poznan.pl/wp-content/uploads/2025
 /08/530145008_1377854130801803_3027874487281440126_n.jpg
CATEGORIES:Piknik,Rozrywka
LOCATION:Plac przy remizie w Węglewie\, Plac przy remizie\, Węglewo\, Pol
 and
GEO:52.51605;17.306343
X-APPLE-STRUCTURED-LOCATION;VALUE=URI;X-ADDRESS=Plac przy remizie\, Węglew
 o\, Poland;X-APPLE-RADIUS=100;X-TITLE=Plac przy remizie w Węglewie:geo:52
 .51605,17.306343
END:VEVENT
END:VCALENDAR