BEGIN:VCALENDAR
VERSION:2.0
PRODID:-//wp-events-plugin.com//7.1.7//EN
BEGIN:VEVENT
UID:8592@powiat.poznan.pl
DTSTART:20241111T080000Z
DTEND:20241111T080000Z
DTSTAMP:20241107T104029Z
URL:https://powiat.poznan.pl/events/obchody-niepodleglosci-w-luboniu/
SUMMARY:Obchody Niepodległości w Luboniu
DESCRIPTION:Obchody Niepodległości w Luboniu\nProgram wydarzeń:\n9.00 
 – Msza św. w intencji Ojczyzny w kościele pw. św. Barbary\n10.00 – 
 Uroczyste obchody na pl. Edmunda Bojanowskiego z udziałem władz\, jednos
 tek miejskich oraz lubońskich stowarzyszeń\n11.11 – 12. Luboński Bieg
  Niepodległości im. ppłk Ludwika Misieka organizowany przez Ronin Runni
 ng (start/meta – ul. 11 Listopada)\n12.00 – Turniej Niepodległościow
 y Lubońskiego Bractwa Kurkowego na strzelnicy przy ul. Poniatowskiego 20\
 n\n\n\n
ATTACH;FMTTYPE=image/jpeg:https://powiat.poznan.pl/wp-content/uploads/2024
 /10/plakat-lbn-2024-26mb.jpg
CATEGORIES:Uroczystości
LOCATION:Luboń\, ul. 11 listopada \, 62-030 Luboń\, Poland
GEO:52.345083;16.86101
X-APPLE-STRUCTURED-LOCATION;VALUE=URI;X-ADDRESS=ul. 11 listopada \, 62-030 
 Luboń\, Poland;X-APPLE-RADIUS=100;X-TITLE=Luboń:geo:52.345083,16.86101
END:VEVENT
END:VCALENDAR