BEGIN:VCALENDAR
VERSION:2.0
PRODID:-//wp-events-plugin.com//7.1.7//EN
BEGIN:VEVENT
UID:9010@powiat.poznan.pl
DTSTART:20250512T170000Z
DTEND:20250512T190000Z
DTSTAMP:20250508T075441Z
URL:https://powiat.poznan.pl/events/od-alaski-do-kalifornii/
SUMMARY:Od Alaski do Kalifornii
DESCRIPTION:Biblioteka Publiczna w Swarzędzu zaprasza na spotkanie z Miko
 łajem Arndtem\, fotografem\, podróżnikiem\, ornitologiem\, który przej
 echał rowerem od Alaski do Kalifornii wzdłuż zachodniego wybrzeża Amer
 yki Północnej.\n\n
ATTACH;FMTTYPE=image/jpeg:https://powiat.poznan.pl/wp-content/uploads/2025
 /05/492227182_992167629695965_2023526953549089460_n.jpg
CATEGORIES:Edukacja,Wykład
LOCATION:Biblioteka Publiczna w Swarzędzu\, os. Czwartaków 1\, Swarzędz\
 , 62-020\, Poland
GEO:52.41566779999999;17.078867899999977
X-APPLE-STRUCTURED-LOCATION;VALUE=URI;X-ADDRESS=os. Czwartaków 1\, Swarzę
 dz\, 62-020\, Poland;X-APPLE-RADIUS=100;X-TITLE=Biblioteka Publiczna w Swa
 rzędzu:geo:52.41566779999999,17.078867899999977
END:VEVENT
END:VCALENDAR