BEGIN:VCALENDAR
VERSION:2.0
PRODID:-//wp-events-plugin.com//7.1.7//EN
BEGIN:VEVENT
UID:8544@powiat.poznan.pl
DTSTART:20241019T230000Z
DTEND:20241030T230000Z
DTSTAMP:20241017T081653Z
URL:https://powiat.poznan.pl/events/od-materii-do-produktu-wystawa-prac-wy
 konanych-podczas-festiwalu/
SUMMARY:"Od materii do produktu..." - wystawa prac wykonanych podczas festi
 walu
DESCRIPTION:"Od materii do produktu..." - wystawa prac wykonanych podczas f
 estiwalu\nOd 20 do 31 października w Swarzędzkim Centrum Historii i Sztu
 ki odbędzie się  poplenerowa wystawa prac wykonanych podczas festiwalu:
 "Od materii do produktu..."\nZapraszamy!\nWięcej informacji na swarzedz.p
 l
ATTACH;FMTTYPE=image/jpeg:https://powiat.poznan.pl/wp-content/uploads/2021
 /10/event-kalendarz.png
CATEGORIES:wystawa
LOCATION:Swarzędzkie Centrum Historii i Sztuki\, ul. Bramkowa 6\, 62-020 S
 warzędz\, 62-020\, Poland
GEO:52.41119;17.078892
X-APPLE-STRUCTURED-LOCATION;VALUE=URI;X-ADDRESS=ul. Bramkowa 6\, 62-020 Swa
 rzędz\, 62-020\, Poland;X-APPLE-RADIUS=100;X-TITLE=Swarzędzkie Centrum H
 istorii i Sztuki:geo:52.41119,17.078892
END:VEVENT
END:VCALENDAR