BEGIN:VCALENDAR
VERSION:2.0
PRODID:-//wp-events-plugin.com//7.1.7//EN
BEGIN:VEVENT
UID:9007@powiat.poznan.pl
DTSTART:20250510T180000Z
DTEND:20250510T200000Z
DTSTAMP:20250508T073856Z
URL:https://powiat.poznan.pl/events/od-romansu-do-tanga/
SUMMARY:Od romansu do tanga
DESCRIPTION:Stowarzyszenie VENA zaprasza na kolejne wydarzenie w ramach Kon
 certów Jerzykowskich. – Tym razem czeka nas występ wybitnego kanadyjsk
 iego klarnecisty\, polskiego pochodzenia Kornela Wolaka. Przed nami spotka
 nie z wyjątkowym artystą. Tego koncertu nie można przegapić – zapewn
 ia Aleksandra Mazurek\, prezes Stowarzyszenia i organizatorka imprezy\, kt
 órą zaplanowano 10 maja\, o godz. 19.00.\n\n\n\n&nbsp\;
ATTACH;FMTTYPE=image/jpeg:https://powiat.poznan.pl/wp-content/uploads/2025
 /05/plakat_wolak-1.jpg
CATEGORIES:Kultura i sztuka
LOCATION:Szkoła Podstawowa w Jerzykowie\, Spokojna 3\, Jerzykowo\, Wielkop
 olskie\, 62-007\, Poland
GEO:52.47082289999999;17.171704999999974
X-APPLE-STRUCTURED-LOCATION;VALUE=URI;X-ADDRESS=Spokojna 3\, Jerzykowo\, Wi
 elkopolskie\, 62-007\, Poland;X-APPLE-RADIUS=100;X-TITLE=Szkoła Podstawow
 a w Jerzykowie:geo:52.47082289999999,17.171704999999974
END:VEVENT
END:VCALENDAR