BEGIN:VCALENDAR
VERSION:2.0
PRODID:-//wp-events-plugin.com//7.1.7//EN
BEGIN:VEVENT
UID:8966@powiat.poznan.pl
DTSTART:20250510T090000Z
DTEND:20250510T130000Z
DTSTAMP:20250506T080034Z
URL:https://powiat.poznan.pl/events/oddaj-krew-4/
SUMMARY:Oddaj krew
DESCRIPTION:Kolejna akcja honorowego krwiodawstwa (już 106.!) odbędzie si
 ę 10 maja\, w godz. 8.00-14.00 w Szkole Podstawowej nr 1 w Tarnowie Podg
 órnym. Do udziału zachęcamy zarówno wieloletnich krwiodawców\, jak i 
 tych\, którzy krew chcieliby oddać po raz pierwszy.\n\nSzczegóły na st
 ronie internetowej Tarnowa Podgórnego.\n\n
ATTACH;FMTTYPE=image/jpeg:https://powiat.poznan.pl/wp-content/uploads/2025
 /05/1.png
CATEGORIES:Społeczne
LOCATION:Szkoła Podstawowa nr 1 w Tarnowie Podgórnym\, Szkolna 5\, Tarnow
 o Podgórne\, Poland
GEO:52.467105;16.662562
X-APPLE-STRUCTURED-LOCATION;VALUE=URI;X-ADDRESS=Szkolna 5\, Tarnowo Podgór
 ne\, Poland;X-APPLE-RADIUS=100;X-TITLE=Szkoła Podstawowa nr 1 w Tarnowie 
 Podgórnym:geo:52.467105,16.662562
END:VEVENT
END:VCALENDAR