BEGIN:VCALENDAR
VERSION:2.0
PRODID:-//wp-events-plugin.com//7.1.7//EN
BEGIN:VEVENT
UID:8442@powiat.poznan.pl
DTSTART:20241002T230000Z
DTEND:20241002T230000Z
DTSTAMP:20241003T063656Z
URL:https://powiat.poznan.pl/events/opieka-nad-zwierzetami-pogadanki-dla-d
 zieci/
SUMMARY:Opieka nad zwierzętami - pogadanki dla dzieci
DESCRIPTION:\nOpieka nad zwierzętami - pogadanki dla dzieci\nWięcej infor
 macji na swarzedz.pl\n\n3 października w Swarzędzkim Centrum Historii i 
 Sztuki odbędzie się pierwsze z cyklu spotkań dla dzieci przedszkolnych 
 i wczesnoszkolnych na temat odpowiedzialnej opieki nad zwierzętami. Pogad
 anki poprowadzi wolontariuszka Swarzędzkiego Oddziału Towarzystwa Opieki
  nad Zwierzętami.\n\nPozostałe spotkania zaplanowane są na 10\, 17 i 24
  października.\n\nZapraszamy!\n\nInformacja: www.swarzedz.pl
ATTACH;FMTTYPE=image/jpeg:https://powiat.poznan.pl/wp-content/uploads/2018
 /07/pies.jpg
CATEGORIES:Dla dzieci,Edukacja
LOCATION:Swarzędzkie Centrum Historii i Sztuki\, ul. Bramkowa 6\, 62-020 S
 warzędz\, 62-020\, Poland
GEO:52.41119;17.078892
X-APPLE-STRUCTURED-LOCATION;VALUE=URI;X-ADDRESS=ul. Bramkowa 6\, 62-020 Swa
 rzędz\, 62-020\, Poland;X-APPLE-RADIUS=100;X-TITLE=Swarzędzkie Centrum H
 istorii i Sztuki:geo:52.41119,17.078892
END:VEVENT
END:VCALENDAR