BEGIN:VCALENDAR
VERSION:2.0
PRODID:-//wp-events-plugin.com//7.1.7//EN
BEGIN:VEVENT
UID:8859@powiat.poznan.pl
DTSTART:20250404T173000Z
DTEND:20250404T173000Z
DTSTAMP:20250213T070937Z
URL:https://powiat.poznan.pl/events/piano-days-w-skrzynkach/
SUMMARY:Piano Days w Skrzynkach
DESCRIPTION:Piano Days w Skrzynkach\nW piątek\, 4 kwietnia o godz.18.30 w 
 Dworze Skrzynki zapowiada się kolejne niezwykłe muzyczne wydarzenie\, kt
 órym będzie  recital fortepianowy w wykonaniu Szymona Siwierskiego pt. 
 „More than meets the eye”. Jest to wspólny projekt muzyczny tego  wy
 bitnego pianisty oraz fundacji DIFA\, w którym poznański multiinstrument
 alista i kompozytor przygląda się twórczości wielkich postaci muzyki\,
  interpretując ich dzieła w bardzo swobodny sposób. Co ma wspólnego Ki
 ng Crimson z Krystyną Prońko czy ABBA z Krzysztofem Komedą? Na pewno ws
 zyscy w swoich kategoriach byli geniuszami\, ale wspólne także jest to\,
  że ich muzyka wybrzmi 4 kwietnia w Dworze Skrzynki!\n\nSzymon Siwierski\
 , który wciąż jest młodym twórcą może poszczycić się współprac
 ą z takimi postaciami polskiej muzyki jak Katarzyna Groniec\, Czesław Mo
 zil czy Małgorzata Ostrowska. Wędruje on pomiędzy wieloma gatunkami i i
 nstrumentami\, lecz jak sam mówi – fortepian to jest ten jedyny\, ten n
 ajukochańszy.  Swoboda z jaką interpretuje kompozycje innych autorów\,
  jednocześnie zachowując swój własny styl grania jest zdecydowanie god
 na podziwu i warta posłuchania!!!\n\nKoncert Szymona Siwierskiego zakońc
 zy kilkudniową akcję pt. Piano Days. Od 28 marca do 4 kwietnia w Poznani
 u oraz powiecie poznańskim odbędzie się seria wydarzeń\, które stanow
 ić będą hołd dla piękna fortepianu\, jako króla instrumentów. Niezw
 ykłe koncerty\, warsztaty czy pokazy niemych filmów z towarzyszeniem muz
 yki fortepianowej to tylko niektóre z punktów programu Piano Day 2025. R
 zadko zdarza się okazja\, aby w jednym tygodniu móc tak mocno doświadcz
 yć tak różnej muzyki połączonej jednakże nicią\, jaką jest instrum
 ent Fryderyka Chopina.\n\nPartnerami Piano Day 2025 są między innymi: Dr
 agon Socjal Club\, Radio Poznań\, Estrada Poznańska i Instytut Skrzynki.
  Bilety do nabycia on-line. Zapraszamy! Spotkanie zacznijmy jednak jak zwy
 kle z co najmniej półgodzinnym wyprzedzeniem\, ponieważ -przypominamy\,
  że w trakcie koncertu serwis restauracji jest nieczynny. Zapraszamy do s
 korzystania z oferty gastronomicznej restauracji Dworu Skrzynki przed i po
  koncercie.\n\nPrzygotował\; Instytut Skrzynki\n\n
ATTACH;FMTTYPE=image/jpeg:https://powiat.poznan.pl/wp-content/uploads/2025
 /02/1-21.jpg
CATEGORIES:Kultura i sztuka
LOCATION:Dwór Skrzynki\, Plac Parkowy 1\, Skrzynki\, gm. Stęszew\, 62-060
 \, Poland
GEO:52.342096;16.606405
X-APPLE-STRUCTURED-LOCATION;VALUE=URI;X-ADDRESS=Plac Parkowy 1\, Skrzynki\,
  gm. Stęszew\, 62-060\, Poland;X-APPLE-RADIUS=100;X-TITLE=Dwór Skrzynki:
 geo:52.342096,16.606405
END:VEVENT
END:VCALENDAR