BEGIN:VCALENDAR
VERSION:2.0
PRODID:-//wp-events-plugin.com//7.1.7//EN
BEGIN:VEVENT
UID:8372@powiat.poznan.pl
DTSTART:20240921T090000Z
DTEND:20240921T140000Z
DTSTAMP:20240920T103619Z
URL:https://powiat.poznan.pl/events/piknik-ekologiczny-w-pobiedziskach/
SUMMARY:Piknik Ekologiczny w Pobiedziskach
DESCRIPTION:Jubileuszowy XV Ogólnopolski Edukacyjny Piknik Ekologiczny\nWi
 ęcej informacji na pobiedziska.pl\n\n\n\n&nbsp\;
ATTACH;FMTTYPE=image/jpeg:https://powiat.poznan.pl/wp-content/uploads/2024
 /09/piknik-2024-plakat_pobiedziska-scaled.jpg
CATEGORIES:Ekologia
LOCATION:Teren Zespołu Szkół im. Konstytucji 3 Maja w Pobiedziskach Lotn
 isku\, ul. Gajowa 22\, 62-010 Pobiedziska\, Poland
GEO:52.47185;17.237736
X-APPLE-STRUCTURED-LOCATION;VALUE=URI;X-ADDRESS=ul. Gajowa 22\, 62-010 Pobi
 edziska\, Poland;X-APPLE-RADIUS=100;X-TITLE=Teren Zespołu Szkół im. Kon
 stytucji 3 Maja w Pobiedziskach Lotnisku:geo:52.47185,17.237736
END:VEVENT
END:VCALENDAR