BEGIN:VCALENDAR
VERSION:2.0
PRODID:-//wp-events-plugin.com//7.1.7//EN
BEGIN:VEVENT
UID:9691@powiat.poznan.pl
DTSTART:20260503T110000Z
DTEND:20260503T150000Z
DTSTAMP:20260423T133120Z
URL:https://powiat.poznan.pl/events/piknik-motoryzacyjny-w-puszczykowie/
SUMMARY:Piknik motoryzacyjny w Puszczykowie
DESCRIPTION:Rodzinny piknik motoryzacyjny 3 maja w Puszczykowie. Będzie kl
 asyczna motoryzacja\, koncerty na żywo\, strefa animacji\, motokawiarenka
  i trochę lokalnego rękodzieła – rodzinny klimat na majówkę w muzeu
 m\, które otrzymało certyfikat Rekomendowanej Atrakcji Turystycznej Powi
 atu Poznańskiego.\n\n\n\n&nbsp\;
ATTACH;FMTTYPE=image/jpeg:https://powiat.poznan.pl/wp-content/uploads/2026
 /04/piknik-majowka.png
CATEGORIES:Dla dzieci,Dla seniora,Piknik,Rozrywka,Społeczne
LOCATION:Muzeum motoryzacji w Puszczykowie\, Klasztorna 7\, Puszczykowo\, P
 olska\, 62-040\, Poland
GEO:52.292866;16.849496
X-APPLE-STRUCTURED-LOCATION;VALUE=URI;X-ADDRESS=Klasztorna 7\, Puszczykowo\
 , Polska\, 62-040\, Poland;X-APPLE-RADIUS=100;X-TITLE=Muzeum motoryzacji w
  Puszczykowie:geo:52.292866,16.849496
END:VEVENT
END:VCALENDAR