BEGIN:VCALENDAR
VERSION:2.0
PRODID:-//wp-events-plugin.com//7.1.7//EN
BEGIN:VEVENT
UID:9022@powiat.poznan.pl
DTSTART:20250607T090000Z
DTEND:20250607T120000Z
DTSTAMP:20250513T124013Z
URL:https://powiat.poznan.pl/events/piknik-na-osowej-gorze/
SUMMARY:Piknik na Osowej Górze
DESCRIPTION:Czekamy na Was 7 czerwca na Osowej Górze. Uczniowie SOSW im. J
 . Korczaka w Mosinie wraz z rodzinami będą mogli skorzystać z wielu roz
 rywek m. in. dmuchańców\, strefy relaksu\, animacji\, fotobudki.\n\n
ATTACH;FMTTYPE=image/jpeg:https://powiat.poznan.pl/wp-content/uploads/2025
 /05/og.jpg
CATEGORIES:Dla dzieci,Dla seniora,Edukacja,Piknik,Rozrywka
LOCATION:Stacja Turystyczna Osowa Góra\, ul. Skrzynecka\, Osowa Góra\, wi
 elkopolskie\, Poland
GEO:52.250553;16.823096
X-APPLE-STRUCTURED-LOCATION;VALUE=URI;X-ADDRESS=ul. Skrzynecka\, Osowa Gór
 a\, wielkopolskie\, Poland;X-APPLE-RADIUS=100;X-TITLE=Stacja Turystyczna O
 sowa Góra:geo:52.250553,16.823096
END:VEVENT
END:VCALENDAR