BEGIN:VCALENDAR
VERSION:2.0
PRODID:-//wp-events-plugin.com//7.1.7//EN
BEGIN:VEVENT
UID:9149@powiat.poznan.pl
DTSTART:20250823T180000Z
DTEND:20250823T200000Z
DTSTAMP:20250623T071925Z
URL:https://powiat.poznan.pl/events/piosenki-marka-grechuty/
SUMMARY:Piosenki Marka Grechuty
DESCRIPTION:„Będziesz moją Panią”\, „Nie dokazuj!”\, „Dni\, kt
 órych nie znamy”\, „Korowód” czy „Świecie nasz” – miłośni
 kom twórczości piosenek nie trzeba przedstawiać. Ale z pewnością zain
 teresują ich nowe interpretacje legendarnych przebojów. Zapraszamy zatem
  do Skrzynek aby posłuchać ich w wykonaniu Zespołu ARETE. Piosenki Mark
 a Grechuty zabrzmią 23 sierpnia o godz. 19:00 w czasie plenerowego koncer
 tu na placu animacji Dworu Skrzynki.\n\nPomysł opracowania tych legendarn
 ych utworów zrodził się aby uczcić Jubileusz 15-lecia działalności a
 rtystycznej Zespołu ARETE. Tak powstał koncert z autorskimi aranżacjami
  ponadczasowych piosenek jednego z najwybitniejszych polskich artystów XX
  wieku – Marka Grechuty. Obejmuje on największe przeboje mistrza piosen
 ki\, jak również mniej znane\, ale wspaniałe utwory z całego okresu je
 go kariery\, ukazujące wszechstronność krakowskiego artysty. Koncert je
 st zamkniętą całością\, na która składa się także kilka utworów 
 autorskich powstałych z inspiracji twórczością Marka Grechuty jak i na
 jnowsze piosenki zespołu z płyty “Kochamy dzień”.\n\nZespół ARETE
  zagrał dla publiczności ok. 600 koncertów w całej Polsce\, również 
 w Sali Ziemi\, Filharmonii Poznańskiej czy Piwnicy pod Baranami i wydał 
 do tej pory 12 płyt studyjnych w tym 8 autorskich: W Dworze Skrzynki zagr
 a w składzie: Jerzy Struk – śpiew\, Marta Duchant – śpiew\, Wiktori
 a Tokłowicz- skrzypce oraz Dawid Troczewski – fortepian. Jerzy Struk to
  wokalista zespołu\, ale też poeta i doktor nauk humanistycznych\, autor
  słów i kompozycji do 11 płyt studyjnych w tym 7 autorskich. Jest lider
 em i założycielem zespołu\, a ponadto … szachowym mistrzem Fide\, aut
 orem książek poetyckich: Jesteśmy\, Rysa absolutna\, przed… Po…\, B
 yć uczniem miłości. Krzyk o Dobro!\, Troski i czułości\, Misja kilku 
 słów.\n\nMarta Duchant to wokalistka ARETE\, a także piosenkarka i akto
 rka „Teatru Droga”\, scenarzystka występująca w teledyskach zespołu
  od 2011 r.\, absolwentka Studium Wokalnego im. Czesława Niemena w Poznan
 iu. Z zespołem jest związana od 2019\, wzięła udział w projekcie ARET
 E Dzieciom! Wiktoria Tokłowicz – skrzypaczka\, absolwentka studiów I i
  II stopnia Akademii Muzycznej im. J. I. Paderewskiego w Poznaniu. Jest cz
 łonkinią orkiestr w wielu projektach muzycznych na scenach symfonicznych
  i rozrywkowych. W ramach programu Erasmus to również studentka w hiszpa
 ńskiej uczelni Musikene w San Sebastian. Od marca 2020 jest liderką i ws
 półzałożycielką zespołu “Tokłowicz with Strings” łączącej ś
 wiat muzyki klasycznej z jazzową interpretacją. Współpracuje z ARETE o
 d 2024 roku.\n\nDawid Troczewski jest pianistą jazzowym\, kompozytorem i 
 aranżerem. Jest absolwentem poznańskiej „Szkoły Talentów” i Akadem
 ii Muzycznej we Wrocławiu. To bardzo wszechstronny muzyk\, odnajdujący s
 ię w różnych stylistykach. W dorobku artystycznym ma wiele nagród indy
 widualnych i zespołowych – jest m.in. zdobywcą Grand Prix Ogólnopolsk
 iego Festiwalu Pianistów Jazzowych (2006) i laureatem wielu Nagród Specj
 alnych\, m.in. na „Ogólnopolskim Konkursie Pianistów Muzyki Rozrywkowe
 j” (Warszawa’2006\, ’2008\, ’2009) oraz nagrodę „Indywidualnoś
 ć Muzyczna” (Inowrocław’2002). Koncertował na wielu prestiżowych s
 cenach i festiwalach jazzowych w Polsce\, Niemczech\, Szwecji\, Szwajcarii
 \, Wielkiej Brytanii\, Czechach\, na Ukrainie.\n\nArtyści zapraszają pub
 liczność do świata wspomnień\, radosnych wzruszeń jak i do wspólnego
  śpiewania. Koncert\, który przybiera poetycki a jednocześnie dynamiczn
 y i żywiołowy charakter\, ubrany jest w muzyczną opowieść\, nierzadko
  przeplatany wdzięcznymi anegdotami\, z dystansem do siebie i humorem. Ko
 ncert ”Świecie nasz” będzie z pewnością pięknym i wzruszającym p
 rzypomnieniem największych hitów Marka Grechuty. Bilety do nabycia onlin
 e. Zachęcamy też do skorzystania z naszej oferty gastronomicznej zarówn
 o bezpośrednio przy scenie plenerowej jak i w restauracji Dworu Skrzynki.
 \n\n
ATTACH;FMTTYPE=image/jpeg:https://powiat.poznan.pl/wp-content/uploads/2025
 /06/ig-3.jpg
CATEGORIES:Kultura i sztuka,Rozrywka
LOCATION:Dwór Skrzynki\, Plac Parkowy 1\, Skrzynki\, gm. Stęszew\, 62-060
 \, Poland
GEO:52.342096;16.606405
X-APPLE-STRUCTURED-LOCATION;VALUE=URI;X-ADDRESS=Plac Parkowy 1\, Skrzynki\,
  gm. Stęszew\, 62-060\, Poland;X-APPLE-RADIUS=100;X-TITLE=Dwór Skrzynki:
 geo:52.342096,16.606405
END:VEVENT
END:VCALENDAR