BEGIN:VCALENDAR
VERSION:2.0
PRODID:-//wp-events-plugin.com//7.1.7//EN
BEGIN:VEVENT
UID:9125@powiat.poznan.pl
DTSTART:20250712T180000Z
DTEND:20250712T200000Z
DTSTAMP:20250529T061522Z
URL:https://powiat.poznan.pl/events/piotr-kuzniak-w-skrzynkach/
SUMMARY:Piotr Kuźniak w Skrzynkach
DESCRIPTION:Bez zbędnego ryzyka można powiedzieć\, że w Polsce te piose
 nki albo się bezgranicznie uwielbia albo ich się równie mocno nie znosi
 . Niewiele też osób powie\, że ich nigdy nie słyszało. Starsi znają 
 je z oryginalnych wykonań\, młodsi z różnych mniej lub bardziej udanyc
 h przeróbek. Jedno jest w tym pewne – największe przeboje Czesława Ni
 emena i Krzysztofa Krawczyka to kanon polskiej piosenki. Dla tych którzy 
 chcą je sobie przypomnieć\, zaśpiewać czy może poznać mamy zaproszen
 ie na 12 lipca\, na godz. 19.00 do Skrzynek. Na plenerowej scenie Dworu Sk
 rzynki największe przeboje Niemena i Krawczyka zaśpiewa legenda wielkopo
 lskiej i polskiej estrady – Piotr Kuźniak\n\nPiotr Kuźniak to wokalist
 a\, gitarzysta\, kompozytor\, aranżer i multiinstrumentalista\, który ni
 emal od dziecka związany jest ze sceną muzyczną. Początkowo był solis
 tą chóru Filharmonii Poznańskiej prof. Stefana Stuligrosza „Poznańsk
 ie Słowiki”. W 1962 roku z zespołem „Trio poznańskie” zajął pie
 rwsze miejsce na festiwalu „Szukamy młodych talentów” w Szczecinie. 
 Potem grał w zespołach: Szafiry\, Bardowie\, Waganci z Anną Jantar\, w 
 duecie z Andrzejem Dąbrowskim\, Urszulą Sipińską oraz wieloma innymi a
 rtystami i zespołami. Przez niemal trzy dekady śpiewał i grał na gitar
 ze z legendarnym zespołem Trubadurzy\, zastępując Krzysztofa Krawczyka.
 \n\nW 2005r wydał płytę z własnymi aranżacjami „Złote przeboje Cze
 sława Niemena”. Koncertował niemal w całej Europie\, a także w USA\,
  Kanadzie i Australii. Odznaczony między innymi Złotym Krzyżem Zasługi
  dla Kultury Polskiej oraz Złotym Medalem „Gloria Artis”- Zasłużony
  Kulturze. W 2019 nagrodzony przez Unię Wielkopolan „Wawrzynem” w kat
 egorii Kultura. W 2022 odsłonił swoją gwiazdę w Alei Big-Beatu w Szcze
 cinie\, a w 2023 roku został odznaczony Odznaką Honorową Za Zasługi dl
 a Województwa Wielkopolskiego oraz Krzyżem Kawalerskim Orderu Odrodzenia
  Polski za wybitne zasługi dla kultury polskiej. Obecnie prowadzi działa
 lność jako Piotr Kuźniak oraz „Piotr Kuźniak Band” z zespołem\, s
 kładającym się ze znakomitych poznańskich muzyków.\n\nNikt tak jak on
  nie śpiewa przebojów Niemena i Krawczyka. Każdy koncert to prawdziwe w
 ydarzenie przyjmowane z owacjami na stojąco. To muzyczna uczta\, która o
 ddaje niezwykły klimat ponadczasowych przebojów Czesława Niemena\, Krzy
 sztofa Krawczyka\, o czym będzie się można przekonać 12 lipca w Skrzyn
 kach. Bilety do kupienia on-line. Przed i po koncercie zapraszamy do skorz
 ystania z naszej oferty gastronomicznej zarówno bezpośrednio przy scenie
  plenerowej jak i w restauracji. Zapraszamy.\n\n
ATTACH;FMTTYPE=image/jpeg:https://powiat.poznan.pl/wp-content/uploads/2025
 /05/a.jpg
CATEGORIES:Kultura i sztuka,Rozrywka
LOCATION:Dwór Skrzynki\, Plac Parkowy 1\, Skrzynki\, gm. Stęszew\, 62-060
 \, Poland
GEO:52.342096;16.606405
X-APPLE-STRUCTURED-LOCATION;VALUE=URI;X-ADDRESS=Plac Parkowy 1\, Skrzynki\,
  gm. Stęszew\, 62-060\, Poland;X-APPLE-RADIUS=100;X-TITLE=Dwór Skrzynki:
 geo:52.342096,16.606405
END:VEVENT
END:VCALENDAR