BEGIN:VCALENDAR
VERSION:2.0
PRODID:-//wp-events-plugin.com//7.1.7//EN
BEGIN:VEVENT
UID:9192@powiat.poznan.pl
DTSTART:20250717T160000Z
DTEND:20250717T180000Z
DTSTAMP:20250623T104042Z
URL:https://powiat.poznan.pl/events/plenerowe-animacje/
SUMMARY:Plenerowe animacje
DESCRIPTION:STITCH I TROPICALNA MISJA17 lipca 2025 (czwartek)\, godz. 17:00
 Kosmiczna wyprawa z sympatycznym Stitchem na pokładzie! Wspólnie uratuje
 my zagubione stworki z kolorowej\, pełnej wyzwań wyspy!Tor przeszkód w 
 dżungliKreatywne laboratorium stworkówPoszukiwania kryształów w tropik
 achTaniec pod palmami i mnóstwo uśmiechów!\n\n
ATTACH;FMTTYPE=image/jpeg:https://powiat.poznan.pl/wp-content/uploads/2025
 /06/d3.jpg
CATEGORIES:Dla dzieci,Rozrywka,Społeczne
LOCATION:Park Rekreacyjno-Sportowy\, ul. Komornicka\, Dąbrówka\, Poland
GEO:52.376554;16.750496
X-APPLE-STRUCTURED-LOCATION;VALUE=URI;X-ADDRESS=ul. Komornicka\, Dąbrówka
 \, Poland;X-APPLE-RADIUS=100;X-TITLE=Park Rekreacyjno-Sportowy:geo:52.3765
 54,16.750496
END:VEVENT
END:VCALENDAR