BEGIN:VCALENDAR
VERSION:2.0
PRODID:-//wp-events-plugin.com//7.1.7//EN
BEGIN:VEVENT
UID:9194@powiat.poznan.pl
DTSTART:20250723T160000Z
DTEND:20250723T180000Z
DTSTAMP:20250623T104605Z
URL:https://powiat.poznan.pl/events/plenerowy-spektakl/
SUMMARY:Plenerowy spektakl
DESCRIPTION:“Witaminowy SuperBohater”\n 23 lipca 2025 (środa)Godz. 17.
 00Park rekreacyjno-sportowy w Dąbrówce\, ul. KomornickaWstęp wolny!\n\n
ATTACH;FMTTYPE=image/jpeg:https://powiat.poznan.pl/wp-content/uploads/2025
 /06/d6.jpg
CATEGORIES:Dla dzieci,Rozrywka,Społeczne
LOCATION:Park Rekreacyjno-Sportowy\, ul. Komornicka\, Dąbrówka\, Poland
GEO:52.376554;16.750496
X-APPLE-STRUCTURED-LOCATION;VALUE=URI;X-ADDRESS=ul. Komornicka\, Dąbrówka
 \, Poland;X-APPLE-RADIUS=100;X-TITLE=Park Rekreacyjno-Sportowy:geo:52.3765
 54,16.750496
END:VEVENT
END:VCALENDAR