BEGIN:VCALENDAR
VERSION:2.0
PRODID:-//wp-events-plugin.com//7.1.7//EN
BEGIN:VEVENT
UID:7090@powiat.poznan.pl
DTSTART:20230907T180000Z
DTEND:20230907T193000Z
DTSTAMP:20230808T130720Z
URL:https://powiat.poznan.pl/events/potancowki-na-plantach-3/
SUMMARY:Potańcówki na Plantach
DESCRIPTION:Potańcówki na Plantach\nWięcej informacji TUTAJ\n\n
ATTACH;FMTTYPE=image/jpeg:https://powiat.poznan.pl/wp-content/uploads/2023
 /08/potancowki_na_plantach.jpg
CATEGORIES:Dla dzieci,Dla seniora,Rozrywka
LOCATION:Planty\, ul. Plac Niezłomnych\, Swarzędz\, Poland
GEO:52.410385;17.0747
X-APPLE-STRUCTURED-LOCATION;VALUE=URI;X-ADDRESS=ul. Plac Niezłomnych\, Swa
 rzędz\, Poland;X-APPLE-RADIUS=100;X-TITLE=Planty:geo:52.410385,17.0747
END:VEVENT
END:VCALENDAR