BEGIN:VCALENDAR
VERSION:2.0
PRODID:-//wp-events-plugin.com//7.1.7//EN
BEGIN:VEVENT
UID:8545@powiat.poznan.pl
DTSTART:20241020T110000Z
DTEND:20241020T160000Z
DTSTAMP:20241017T082349Z
URL:https://powiat.poznan.pl/events/potwornie-dobre-granie-14/
SUMMARY:Potwornie Dobre Granie
DESCRIPTION:Potwornie Dobre Granie\n\n\n\n\n\nZapraszamy na Potwornie Dobre
  Granie  czyli gry planszowe dla każdego!\n\n\nTym razem PDG odbędzie si
 ę w nowym miejscu\, a dokładnie w Międzypokoleniowe Centrum Inicjatyw L
 okalnych przy ul. Szymańskiego 1 \n\n\nOrganizatorem wydarzenia jest SieG
 ierki Planszówki w Siekierkach \n\n\nW najbliższą niedzielę 20 pażdzi
 ernika pokażemy\, wytłumaczymy i wspólnie zagramy w najlepsze gry plans
 zowe! \n\n\n Gramy od 12 do 17! Wśród uczestników rozlosujemy gry plans
 zowe i upominki!\n\n\n Wstęp bezpłatny!\n\n\nWydarzenie współfinansowa
 ne ze środków Powiatu Poznańskiego.\n\nInformacja: Organizator\nWięcej
  informacji na facebook\n\n\n\n\n
ATTACH;FMTTYPE=image/jpeg:https://powiat.poznan.pl/wp-content/uploads/2024
 /10/potwornie-dobre-granie463606708_122120305748498935_318097872314284212_
 n.jpg
CATEGORIES:Kultura i sztuka
LOCATION:Międzypokoleniowe Centrum Inicjatyw Lokalnych\, ul. Szymańskiego
  1\, 62-025 Kostrzyn Wlkp.\, Poland
GEO:52.398904;17.236779
X-APPLE-STRUCTURED-LOCATION;VALUE=URI;X-ADDRESS=ul. Szymańskiego 1\, 62-02
 5 Kostrzyn Wlkp.\, Poland;X-APPLE-RADIUS=100;X-TITLE=Międzypokoleniowe Ce
 ntrum Inicjatyw Lokalnych:geo:52.398904,17.236779
END:VEVENT
END:VCALENDAR