BEGIN:VCALENDAR
VERSION:2.0
PRODID:-//wp-events-plugin.com//7.1.7//EN
BEGIN:VEVENT
UID:8418@powiat.poznan.pl
DTSTART:20241025T090000Z
DTEND:20241025T140000Z
DTSTAMP:20240927T113953Z
URL:https://powiat.poznan.pl/events/powiatowy-turniej-rzezbiarski-w-mosini
 e/
SUMMARY:Powiatowy Turniej Rzeźbiarski w Mosinie
DESCRIPTION:XVII Powiatowy Turniej Rzeźbiarski 2024\nWięcej informacji na
  mosina.pl \n\noraz kultura.gmina.pl\n\n\n\n&nbsp\;
ATTACH;FMTTYPE=image/jpeg:https://powiat.poznan.pl/wp-content/uploads/2024
 /09/plakat-turniej-rzezbiarski-2024-718x1024-1.jpg
CATEGORIES:Kultura i sztuka
LOCATION:Mosiński Ośrodek Kultury\,  Dworcowa 4\, Mosina\, Poland
GEO:52.2422319;16.850597900000025
X-APPLE-STRUCTURED-LOCATION;VALUE=URI;X-ADDRESS= Dworcowa 4\, Mosina\, Pola
 nd;X-APPLE-RADIUS=100;X-TITLE=Mosiński Ośrodek Kultury:geo:52.2422319,16
 .850597900000025
END:VEVENT
END:VCALENDAR