BEGIN:VCALENDAR
VERSION:2.0
PRODID:-//wp-events-plugin.com//7.1.7//EN
BEGIN:VEVENT
UID:9212@powiat.poznan.pl
DTSTART:20250628T150000Z
DTEND:20250628T200000Z
DTSTAMP:20250623T123409Z
URL:https://powiat.poznan.pl/events/powitanie-lata-w-mosinie/
SUMMARY:Powitanie lata w Borkowicach
DESCRIPTION:Sołectwo Borkowice-Bolesławiec serdecznie zaprasza wszystkie 
 rodziny na wyjątkowy festyn rodzinny\, który odbędzie się w sobotę\, 
 28 czerwca 2025 roku.\nMiejsce wydarzenia: plac i boisko za świetlicą wi
 ejską w BorkowicachGodzina rozpoczęcia: 16:00\n
ATTACH;FMTTYPE=image/jpeg:https://powiat.poznan.pl/wp-content/uploads/2025
 /06/m2.png
CATEGORIES:Dla dzieci,Dla seniora,Jarmark,Piknik,Rozrywka,Społeczne
LOCATION:Borkowice\, Borkowice\, Borkowice\, Polska\, 62-053\, Poland
GEO:52.208356;16.785807
X-APPLE-STRUCTURED-LOCATION;VALUE=URI;X-ADDRESS=Borkowice\, Borkowice\, Pol
 ska\, 62-053\, Poland;X-APPLE-RADIUS=100;X-TITLE=Borkowice:geo:52.208356,1
 6.785807
END:VEVENT
END:VCALENDAR