BEGIN:VCALENDAR
VERSION:2.0
PRODID:-//wp-events-plugin.com//7.1.7//EN
BEGIN:VEVENT
UID:8805@powiat.poznan.pl
DTSTART;VALUE=DATE:20250424
DTEND;VALUE=DATE:20250428
DTSTAMP:20250128T143108Z
URL:https://powiat.poznan.pl/events/poznan-motor-show-2025/
SUMMARY:Poznań Motor Show 2025
DESCRIPTION:Poznań Motor Show 2025\nNajświeższe trendy w branży\, czter
 y dni niezapomnianych emocji i moc atrakcji dla całej rodziny – Poznań
  Motor Show to najważniejszy punkt w kalendarzu każdego polskiego fana m
 otoryzacji.\n\nW dniach 24-27.04.2025 na Międzynarodowych Sprawdź będzi
 e można zobaczyć najnowsze modele samochodów i motocykli od producentó
 w z całego świata\, podziwiać ekstremalne pokazy jazdy oraz zbić piąt
 kę ze swoimi idolami.\n\nPoznań Motor Show to najważniejsze wydarzenie 
 motoryzacyjne w Europie Środkowo-Wschodniej. Od wielu lat dostarcza nieza
 pomnianych emocji dziesiątkom tysięcy zwiedzających\, którzy każdego 
 roku odwiedzają Międzynarodowe Targi Poznańskie. Szczegóły wydarzenia
  można znaleźć na stronie motorshow.pl\n\n
ATTACH;FMTTYPE=image/jpeg:https://powiat.poznan.pl/wp-content/uploads/2025
 /01/ms1.png
CATEGORIES:Sport
LOCATION:Międzynarodowe Targi Poznańskie\, ul. Głogowska 14\, Poznań\, 
 Poland
GEO:52.4012535;16.907548200000065
X-APPLE-STRUCTURED-LOCATION;VALUE=URI;X-ADDRESS=ul. Głogowska 14\, Poznań
 \, Poland;X-APPLE-RADIUS=100;X-TITLE=Międzynarodowe Targi Poznańskie:geo
 :52.4012535,16.907548200000065
END:VEVENT
END:VCALENDAR