BEGIN:VCALENDAR
VERSION:2.0
PRODID:-//wp-events-plugin.com//7.1.7//EN
BEGIN:VEVENT
UID:8352@powiat.poznan.pl
DTSTART:20241006T100000Z
DTEND:20241006T160000Z
DTSTAMP:20240919T131911Z
URL:https://powiat.poznan.pl/events/poznanska-pyra-w-szreniawie/
SUMMARY:Poznańska Pyra w Szreniawie
DESCRIPTION:Poznańska Pyra\nWięcej informacji na muzeum-szreniawa.pl\n\n
ATTACH;FMTTYPE=image/jpeg:https://powiat.poznan.pl/wp-content/uploads/2024
 /09/pyra_2022_004-1024x683-1.jpg
CATEGORIES:Ekologia,wystawa
LOCATION:Muzeum Narodowe Rolnictwa i Przemysłu Rolno-Spożywczego w Szreni
 awie\, ul. Dworcowa 5\, Szreniawa\, Wielkopolskie\, 62-052\, Poland
GEO:52.3165841;16.797744400000056
X-APPLE-STRUCTURED-LOCATION;VALUE=URI;X-ADDRESS=ul. Dworcowa 5\, Szreniawa\
 , Wielkopolskie\, 62-052\, Poland;X-APPLE-RADIUS=100;X-TITLE=Muzeum Narodo
 we Rolnictwa i Przemysłu Rolno-Spożywczego w Szreniawie:geo:52.3165841,1
 6.797744400000056
END:VEVENT
END:VCALENDAR