BEGIN:VCALENDAR
VERSION:2.0
PRODID:-//wp-events-plugin.com//7.1.7//EN
BEGIN:VEVENT
UID:9664@powiat.poznan.pl
DTSTART:20260419T133000Z
DTEND:20260419T153000Z
DTSTAMP:20260320T072542Z
URL:https://powiat.poznan.pl/events/projekcja-filmow-i-wernisaz-fotografii
 -w-skrzynkach/
SUMMARY:Zaplątane historie Olędrów - film i wernisaż
DESCRIPTION:Zaplątane historie Olędrów – projekcja filmów i wernisaż
  wystawy fotografii w Dworze Skrzynki odbędzie się 19 kwietnia 2026 r. o
  godz. 14:30. Wstęp wolny.\n\nOlędrzy to osadnicy\, którzy początkowo 
 przybywali z Niderlandów i Fryzji\, a z czasem także z terenów niemieck
 ich. Od XVI do XVIII wieku zakładali w Polsce wsie\, przede wszystkim na 
 obszarach zalewowych wzdłuż Wisły i jej dopływów\, a także na Kujawa
 ch i w Wielkopolsce. Wyróżniali się dużymi umiejętnościami w zakresi
 e melioracji i osuszania terenów podmokłych\, rozwiniętą kulturą roln
 ą oraz osobistą wolnością — zamiast odrabiać pańszczyznę\, uiszcz
 ali czynsz.\nChoć Olędrzy jako społeczność etniczna (menonici\, Holen
 drzy\, Niemcy) zniknęli z krajobrazu Wielkopolski\, szczególnie po II wo
 jnie światowej\, to ich dziedzictwo kulturowe\, przestrzenne i historyczn
 e jest wciąż bardzo obecne.\n\nPodczas spotkania uczestnicy obejrzą dwa
  krótkie filmy i jako pierwsi obejrzą wystawę fotografii autorstwa nie
 żyjącego już fotografa Janusza Romaniszyna. Będą mieli także okazję
  skosztowania dań inspirowanych kuchnią olęderską\, bowiem taką ofert
 ę przygotował Szef Kuchni restauracji Dworu Skrzynki Kajetan Świokła.\
 n\nW harmonogramie:\n• Pokaz filmu „Śladami Olędrów w Wielkopolsce
 ” (2006)\nSłowo wstępne: Witold Przewoźny - etnograf\, badacz histori
 i Olędrów\n• Pokaz filmu „Cmentarze” (2007)\nSłowo wstępne: Zofi
 a Czerniejewicz-Schroten\, fundacja „hOlendry” i Scena Polska w Holand
 ii\n• Wernisaż wystawy fotografii Janusza Romaniszyna „Śladami Olęd
 rów w Wielkopolsce - Cmentarze”\nSłowo wstępne: Jan Romaniszyn.\n\nPr
 zygotował: Instytut Skrzynki\n\n
ATTACH;FMTTYPE=image/jpeg:https://powiat.poznan.pl/wp-content/uploads/2026
 /03/zaplatane-historie-oledrow-wernisaz-i-pokazy-fb-i-strona.jpg
CATEGORIES:Koncert,Kultura i sztuka,Rozrywka,Społeczne
LOCATION:Dwór Skrzynki\, Plac Parkowy 1\, Skrzynki\, gm. Stęszew\, 62-060
 \, Poland
GEO:52.342096;16.606405
X-APPLE-STRUCTURED-LOCATION;VALUE=URI;X-ADDRESS=Plac Parkowy 1\, Skrzynki\,
  gm. Stęszew\, 62-060\, Poland;X-APPLE-RADIUS=100;X-TITLE=Dwór Skrzynki:
 geo:52.342096,16.606405
END:VEVENT
END:VCALENDAR