BEGIN:VCALENDAR
VERSION:2.0
PRODID:-//wp-events-plugin.com//7.1.7//EN
BEGIN:VEVENT
UID:9543@powiat.poznan.pl
DTSTART:20260110T110000Z
DTEND:20260110T130000Z
DTSTAMP:20260108T103723Z
URL:https://powiat.poznan.pl/events/przedszkolaki-dla-wosp/
SUMMARY:Przedszkolaki dla WOŚP
DESCRIPTION:Przedszkolaki zawsze grają z WOŚP\, Zapraszamy na Karnawałow
 y Balik Przedszkolaki dla WOŚP - 10 stycznia\, sobota\, godz. 12:00. Sala
  widowiskowa Centrum Kultury i Biblioteki Publicznej w Suchym Lesie. Zapra
 szamy w przebraniach! Wstęp = wrzutka do puszki WOŚP na cel 34. Finału.
  Gramy w tym roku dla zdrowych brzuszków naszych dzieci – zbieramy na g
 astroenterologię dziecięcą.\n\n
ATTACH;FMTTYPE=image/jpeg:https://powiat.poznan.pl/wp-content/uploads/2026
 /01/zrzut-ekranu-2026-01-08-113557.png
CATEGORIES:Dla dzieci
LOCATION:Centrum Kultury i Biblioteka Publiczna Gminy Suchy Las\, ul. Szkol
 na 16\, Suchy Las\, 62-002\, Poland
GEO:52.562464;16.798811900000032
X-APPLE-STRUCTURED-LOCATION;VALUE=URI;X-ADDRESS=ul. Szkolna 16\, Suchy Las\
 , 62-002\, Poland;X-APPLE-RADIUS=100;X-TITLE=Centrum Kultury i Biblioteka 
 Publiczna Gminy Suchy Las:geo:52.562464,16.798811900000032
END:VEVENT
END:VCALENDAR