BEGIN:VCALENDAR
VERSION:2.0
PRODID:-//wp-events-plugin.com//7.1.7//EN
BEGIN:VEVENT
UID:7849@powiat.poznan.pl
DTSTART:20240603T100000Z
DTEND:20240603T100000Z
DTSTAMP:20240523T114924Z
URL:https://powiat.poznan.pl/events/przeglad-mlodych-talentow-scenicznych/
SUMMARY:Przegląd Młodych Talentów Scenicznych
DESCRIPTION:Przegląd Młodych Talentów Scenicznych\nWięcej informacji na
  pobiedziska.pl\n\n
ATTACH;FMTTYPE=image/jpeg:https://powiat.poznan.pl/wp-content/uploads/2024
 /05/przeglad-mlodych-talentow.jpg
CATEGORIES:Kultura i sztuka
LOCATION:Pobiedziski Ośrodek Kultury\, ul. Kostrzyńska 21\, Pobiedziska\,
  62-010\, Poland
GEO:52.4754267;17.287649699999974
X-APPLE-STRUCTURED-LOCATION;VALUE=URI;X-ADDRESS=ul. Kostrzyńska 21\, Pobie
 dziska\, 62-010\, Poland;X-APPLE-RADIUS=100;X-TITLE=Pobiedziski Ośrodek K
 ultury:geo:52.4754267,17.287649699999974
END:VEVENT
END:VCALENDAR