BEGIN:VCALENDAR
VERSION:2.0
PRODID:-//wp-events-plugin.com//7.1.7//EN
BEGIN:VEVENT
UID:9061@powiat.poznan.pl
DTSTART:20250614T140000Z
DTEND:20250614T220000Z
DTSTAMP:20250522T074934Z
URL:https://powiat.poznan.pl/events/przeglad-piosenki-szantowej/
SUMMARY:Przegląd Piosenki Szantowej
DESCRIPTION:Przegląd Piosenki Szantowej i Turystycznej "Piosenka bez barie
 r"\n\n
ATTACH;FMTTYPE=image/jpeg:https://powiat.poznan.pl/wp-content/uploads/2025
 /05/grafika-marynarza-siedzacego-na-brzegu-w-prawym-dolnym-rogu-na-srodku-
 plynacy-statek-w-prawym-gornym-rogu-grafika-lecacych-ptakow.jpg
CATEGORIES:Rozrywka
LOCATION:Art Folwarak w Wojnowie\, Art Folwark w Wojnowie\, Wojnowo\, Polan
 d
GEO:52.618453;17.051406
X-APPLE-STRUCTURED-LOCATION;VALUE=URI;X-ADDRESS=Art Folwark w Wojnowie\, Wo
 jnowo\, Poland;X-APPLE-RADIUS=100;X-TITLE=Art Folwarak w Wojnowie:geo:52.6
 18453,17.051406
END:VEVENT
END:VCALENDAR