BEGIN:VCALENDAR
VERSION:2.0
PRODID:-//wp-events-plugin.com//7.1.7//EN
BEGIN:VEVENT
UID:8986@powiat.poznan.pl
DTSTART:20250606T230000Z
DTEND:20250606T230000Z
DTSTAMP:20250507T080628Z
URL:https://powiat.poznan.pl/events/puszcza-adventure/
SUMMARY:Puszcza AdventuRe
DESCRIPTION:Czy marzycie o prawdziwej przygodzie na świeżym powietrzu? Je
 śli tak\, to już w czerwcu nadarzy się idealna okazja\, aby sprawdzić 
 swoje umiejętności nawigacyjne i kondycję fizyczną podczas drugiej edy
 cji PUSZCZA AdventuRe! Już teraz zapraszamy na to wyjątkowe wydarzenie\,
  które odbędzie się 7 czerwca 2025 roku.\nCzym jest PUSZCZA AdventuRe? 
 To wyjątkowe wydarzenie dla wszystkich miłośników aktywnego spędzania
  czasu na łonie natury. W Puszczykowie\, malowniczo położonym na połud
 nie od Poznania\, czekać będą na Was różnorodne trasy\, które zostan
 ą zaprojektowane z myślą o uczestnikach o różnych poziomach zaawansow
 ania. Niezależnie od tego\, czy jesteście doświadczonymi biegaczami na 
 orientację\, czy dopiero zaczynacie swoją przygodę z tego typu aktywno
 ścią\, znajdziecie trasę idealną dla siebie.\nNie przegapcie tej okazj
 i i dołączcie do nas 7 czerwca 2025 roku na drugą edycję PUSZCZA Adven
 tuRe. Więcej na stronie: puszczykowo.pl\n\n&nbsp\;
ATTACH;FMTTYPE=image/jpeg:https://powiat.poznan.pl/wp-content/uploads/2017
 /09/event.png
CATEGORIES:Dla dzieci,Rozrywka,Sport
LOCATION:Puszczykowo\, Puszczykowo\, Puszczykowo\, Poland
GEO:52.2866049;16.849486899999988
X-APPLE-STRUCTURED-LOCATION;VALUE=URI;X-ADDRESS=Puszczykowo\, Puszczykowo\,
  Poland;X-APPLE-RADIUS=100;X-TITLE=Puszczykowo:geo:52.2866049,16.849486899
 999988
END:VEVENT
END:VCALENDAR