BEGIN:VCALENDAR
VERSION:2.0
PRODID:-//wp-events-plugin.com//7.1.7//EN
BEGIN:VEVENT
UID:8415@powiat.poznan.pl
DTSTART:20240921T100000Z
DTEND:20240921T100000Z
DTSTAMP:20240926T060339Z
URL:https://powiat.poznan.pl/events/quest-w-niepruszewie/
SUMMARY:Quest w Niepruszewie
DESCRIPTION:Quest w Niepruszewie\nWięcej informacji na bibliotekabuk\n\n
ATTACH;FMTTYPE=image/jpeg:https://powiat.poznan.pl/wp-content/uploads/2024
 /09/premiera-questu_biblioteka-w-niepruszewie_20240917_144252_0000.png
CATEGORIES:Turystyka i rekreacja
LOCATION:Biblioteka Publiczna w Buku\, Filia w Niepruszewie\, 64-320 Niepru
 szewo\, Poland
GEO:52.386499;16.593745
X-APPLE-STRUCTURED-LOCATION;VALUE=URI;X-ADDRESS=Filia w Niepruszewie\, 64-3
 20 Niepruszewo\, Poland;X-APPLE-RADIUS=100;X-TITLE=Biblioteka Publiczna w 
 Buku:geo:52.386499,16.593745
END:VEVENT
END:VCALENDAR