BEGIN:VCALENDAR
VERSION:2.0
PRODID:-//wp-events-plugin.com//7.1.7//EN
BEGIN:VEVENT
UID:9254@powiat.poznan.pl
DTSTART:20250823T070000Z
DTEND:20250823T163000Z
DTSTAMP:20250728T061408Z
URL:https://powiat.poznan.pl/events/rajd-do-mosiny/
SUMMARY:Rajd do Mosiny
DESCRIPTION:Oddział Środowiskowy PTTK Poznań-Nowe Miasto w Poznaniu wraz
  z pozostałymi organizatorami zaprasza 23 sierpnia na XVII Ogólnopolski 
 Nadwarciański Rajd Honorowych Dawców Krwi PCK oraz ich sympatyków. W ra
 jdzie może wziąć udział każdy honorowy dawca krwi oraz inne osoby nie
  będące krwiodawcami\, które zgłoszą się mailowo do 15 sierpnia 2025
  roku do organizatora: eugeniuszjacek.1@wp.pl\n\nREGULAMIN RAJDU\n\n&nbsp\
 ;\n\n&nbsp\;\n\n
ATTACH;FMTTYPE=image/jpeg:https://powiat.poznan.pl/wp-content/uploads/2023
 /05/pttk.jpg
CATEGORIES:Dla dzieci,Dla seniora,Piknik,Rozrywka,Społeczne,Turystyka i
 rekreacja
LOCATION:Mosina\, Mosina\, Mosina\, Poland
GEO:52.24540690000001;16.847054500000013
X-APPLE-STRUCTURED-LOCATION;VALUE=URI;X-ADDRESS=Mosina\, Mosina\, Poland;X-
 APPLE-RADIUS=100;X-TITLE=Mosina:geo:52.24540690000001,16.847054500000013
END:VEVENT
END:VCALENDAR