BEGIN:VCALENDAR
VERSION:2.0
PRODID:-//wp-events-plugin.com//7.1.7//EN
BEGIN:VEVENT
UID:8436@powiat.poznan.pl
DTSTART:20241006T090000Z
DTEND:20241006T090000Z
DTSTAMP:20241001T102329Z
URL:https://powiat.poznan.pl/events/rajd-rowerowy-pieczona-pyra-w-zielatko
 wie/
SUMMARY:Rajd Rowerowy Pieczona Pyra w Zielątkowie
DESCRIPTION:XXV Rajd Rowerowy Pieczona Pyra\nWięcej informacji na suchylas
 .pl\n\nKoło Gospodyń Wiejskich w Zielątkowie “Pieczona Pyra”\, Soł
 ectwo Zielątkowo\, OSP Zielątkowo i Gmina Suchy Las zapraszają na Jubil
 euszowy XXV Rajd Rowerowy im. Leszka Roszczyka i Grażyny Głowackiej “P
 ieczona Pyra” w Zielątkowie.\n\nTrasa rajdu lub dojazd we własnym zakr
 esie. Miejsca zbiórki:\n\n10:00 Oborniki Rynek\n\n10:20 Złotniki Wieś n
 ad stawem\n\n10:50 Suchy Las pumptrack\n\n11:10 Złotniki szlaban\, ul. Ł
 agiewnicka\n\n11:25 Złotkowo przy boisku\n\n12:00 META: Zielątkowo – p
 olana przy boisku sportowym\, ul. Sportowa\n\nNa mecie rajdu m.in.: tradyc
 yjne pyry z gzikiem\, ognisko\, konkursy\, zabawy\, zawody kolarskie dla d
 zieci.\n\nInformacja:www.suchylas.pl\n\n&nbsp\;\n\n
ATTACH;FMTTYPE=image/jpeg:https://powiat.poznan.pl/wp-content/uploads/2024
 /10/pieczona-pyra-7-of-34-2048x1365_zielatkowo.jpg
CATEGORIES:Turystyka i rekreacja
LOCATION:Zielątkowo - polana przy boisku sportowym\, ul. Sportowa \, 62-00
 2 Zielątkowo\, Poland
GEO:52.563621;16.801757
X-APPLE-STRUCTURED-LOCATION;VALUE=URI;X-ADDRESS=ul. Sportowa \, 62-002 Ziel
 ątkowo\, Poland;X-APPLE-RADIUS=100;X-TITLE=Zielątkowo - polana przy bois
 ku sportowym:geo:52.563621,16.801757
END:VEVENT
END:VCALENDAR