BEGIN:VCALENDAR
VERSION:2.0
PRODID:-//wp-events-plugin.com//7.1.7//EN
BEGIN:VEVENT
UID:8499@powiat.poznan.pl
DTSTART:20241020T100000Z
DTEND:20241020T133000Z
DTSTAMP:20241009T130049Z
URL:https://powiat.poznan.pl/events/rajd-wielcy-wielkopolanie-hr-wladyslaw
 -zamoyski/
SUMMARY:Rajd „Wielcy Wielkopolanie - hr Władysław Zamoyski”
DESCRIPTION:XX WIELKOPOLSKI RAJD „WIELCY  WIELKOPOLANIE - hr Władysław
  Zamoyski”\nOrganizator Rajdu:\n\nOddział Środowiskowy  PTTK Poznań-
 Nowe Miasto im. Franciszka Jaśkowiaka.\n\nKoło Osiedlowe PTTK Łaziki pr
 zy Spółdzielni Mieszkaniowej w Swarzędzu\n\nInstytucje wspierające i w
 spółpracujące:\n\nMiasto Poznań\n\nZarząd Główny PTTK w Warszawie\n
 \nGmina Kórnik\n\nKórnickie Centrum Rekreacji i  Sportu OAZA w Kórniku
 \n\nKomandor Rajdu:\n\nEugeniusz JACEK\n\n Kierownictwo Rajdu:\n\nZastęp
 ca Komandora -  Jan Michalski\n\nSekretariat              
      -  Teresa Jankowska\; Maria Pelińska  \n\nSkarbnik      
                 -  Ewa Maciejewska\n\nWeryfikacja OTP  
          -  Henryk Peliński\n\n Trasy Rajdu:\n\nTrasa I: autoka
 rowo - piesza.\n\nStart: autokarem godz. 7.30 Kostrzyn (przystanek przy Bi
 edronce w kierunku Poznania) - godz. 8.00 Swarzędz (pętla autobusowa Os.
  Kościuszkowców) -    godz. 8.30 Poznań (parking za Kościołem Św.
  J. Jerozolimskiego za Murami na Komandorii) – godz. 9.00 Poznań (sprze
 d Zespołu Szkół Salezjańskich  Os. Bohaterów II Wojny Światowej 29)
 \; -  przejazd do miejscowości  Kórnik\; dalej pieszo po przyjeździe 
 autokarów zwiedzając  Kórnik  (zwiedzanie Arboretum\; przejście nowo
  wybudowaną kładką przez jezioro na ulicę Leśną). Długość trasy o
 k. 5 km.                                 
                          Kierownik trasy: Danuta 
 Żurkiewicz oraz Leszek Żurkiewicz\; pomoc: Krystyna Dyba\; Łukasz Makul
 ec\n\nOsoby nie mogące pokonać trasy pieszo będą miały możliwość i
 ndywidualanego spaceru na terenie mety rajdu.\n\nTrasa II\, dowolna - prze
 bieg trasy każdy opracowuje sam (rowerami\, pieszo\, samochodem).\n\n Me
 ta Rajdu:\n\nMeta rajdu ulokowana będzie na terenie Kórnickiego Centrum 
 Rekreacji  i Sportu OAZA- Błonie w Kórniku ul. Leśna 6.. \n\nMeta czyn
 na w godz. od 11:00 do 14:30.\n\nZgłoszenia udziału:\n\nZgłoszenia indy
 widualne i zbiorowe przyjmowane będą:\n\n- pocztą elektroniczną: eugen
 iuszjacek.1@wp.pl do 17.10.2024 rok do godz.18.00 (czwartek). Koniecznie p
 odać numer trasy oraz miejsce wsiadania.\n\n&nbsp\;\n\nOdpłatność i ś
 wiadczenia:\n\nOdpłatność wynosi  25 zł od osoby dla trasy I dzieci p
 oniżej  4 roku życia bezpłatnie.  Trasa dowolna 15 zł od osoby. Wpis
 owe można wpłacić na mecie rajdu lub w autokarze. Opiekunowie grup szko
 lnych biorą udział w rajdzie bezpłatnie.\n\nW ramach opłaty  wszyscy 
 uczestnicy otrzymują:\n\n 	znaczek rajdowy\,\n 	bezpłatny wstęp do obie
 któw zwiedzanych\n 	ciepły posiłek na mecie\,\n 	punkty na OTP\,\n 	puc
 hary dla najliczniejszych drużyn\n\nW przypadku zgłoszeń po terminie or
 ganizatorzy zastrzegają sobie możliwość nie zrealizowania świadczeń 
 w pełnym wymiarze.\n\nUbezpieczenie:\n\nUbezpieczenie uczestników we wł
 asnym zakresie oprócz osób które mają opłaconą składkę PTTK za 202
 4 rok\; każdy uczestnik odpowiada w pełni za ewentualne szkody wyrządzo
 ne na trasie lub na mecie.\n\nInterpretacja regulaminu leży wyłącznie w
  gestii Komandora Rajdu.\n\n&nbsp\;\n\n&nbsp\;\n\n&nbsp\;
ATTACH;FMTTYPE=image/jpeg:https://powiat.poznan.pl/wp-content/uploads/2014
 /11/PTTK.jpg
CATEGORIES:Turystyka i rekreacja
LOCATION:Kórnickie Centrum Rekreacji i Sportu Oaza-Błonie\, ul. Leśna 6\
 , Kórnik\, wielkopolskie\, Poland
GEO:52.250342;17.076069
X-APPLE-STRUCTURED-LOCATION;VALUE=URI;X-ADDRESS=ul. Leśna 6\, Kórnik\, wi
 elkopolskie\, Poland;X-APPLE-RADIUS=100;X-TITLE=Kórnickie Centrum Rekreac
 ji i Sportu Oaza-Błonie:geo:52.250342,17.076069
END:VEVENT
END:VCALENDAR