BEGIN:VCALENDAR
VERSION:2.0
PRODID:-//wp-events-plugin.com//7.1.7//EN
BEGIN:VEVENT
UID:8898@powiat.poznan.pl
DTSTART:20250322T073000Z
DTEND:20250322T073000Z
DTSTAMP:20250312T084415Z
URL:https://powiat.poznan.pl/events/rajd-witamy-wiosne-na-szlaku-kosciolow
 -drewnianych/
SUMMARY:Rajd  „Witamy Wiosnę na Szlaku Kościołów Drewnianych”
DESCRIPTION:Rajd  „Witamy Wiosnę na Szlaku Kościołów Drewnianych”\
 nOddział Środowiskowy PTTK Poznań-Nowe Miasto im. F. Jaśkowiaka oraz K
 oło PTTK „Łaziki” przy Spółdzielni Mieszkaniowej w Swarzędzu zapr
 asza na rajd pod nazwą „Witamy Wiosnę na Szlaku Kościołów Drewniany
 ch”. Zaplanowano go na 22 marca. Dla uczestników przygotowano kilka rod
 zajów tras. Meta będzie zlokalizowana na terenie Szkoły Podstawowej w C
 zerlejnie w gminie Kostrzyn\, przy ul. Kostrzyńskiej 4. Więcej informacj
 i w załączniku i poniżej.\n\nRegulamin rajdu\n\n&nbsp\;\n\nKomandor Raj
 du:\n\nEugeniusz JACEK\n\nTrasy Rajdu:\n\nTrasa I\, autokarowo-piesza:\n\n
 START: Godz. 8.30  Poznań (sprzed budynku Zespołu Szkół Salezjańskic
 h Os. Bohaterów II Wojny Światowej 29) – godz. 8.45 Poznań (k. parkin
 gu za Kościołem św. Jana Jerozolimskiego na Komandorii) – godz. 9.15
   Swarzędz  (pętla autobusowa Os. Kościuszkowców)   -  godz. 9.35
   Kostrzyn (przystanek autobusowy przy Biedronce w kierunku Poznania) –
  ok. godz.10.00 KLESZCZEWO przed Kościołem (zwiedzanie Kościoła) nast
 ępnie przejście trasy pieszo – Czerlejno ( zwiedzanie Kościoła). Po 
 zwiedzeniu Kościoła przejście na metę do Szkoły Podstawowej w Czerlej
 nie.  Długość trasy: ok. 4 km.\n\nTrasa II\, rowerowa:\n\nSTART: Godz.
  9.30 Poznań (Malta - początkowa Stacja Kolejki Maltanka) –  godz. 10
 .35 Swarzędz przy Kościele koło Ronda na Os. Raczyńskiego – Czerlejn
 o.\n\nDługość trasy w jedną stronę około 20 km.\n\nTrasa III\, dowol
 na:\n\nKażdy według własnego uznania (pieszo\, rowerem\, samochodem).\n
 \nNa metę należy dotrzeć do godz. 13.00.\n\nMeta Rajdu:\n\nMeta będzie
  zlokalizowana na terenie Szkoły Podstawowej w Czerlejnie ul. Kostrzyńsk
 a 4\, gmina Kostrzyn.  Czynna będzie w godz. 11.30 – 14.30.\n\nZgłosz
 enie uczestnictwa:\n\nZgłoszenia uczestnictwa indywidualne i zbiorowe prz
 yjmowane będą:\n\n- pocztą elektroniczną: eugeniuszjacek.1@wp.pl do dn
 ia 19 marca 2025  roku do godz. 19.00\n\nOdpłatność i świadczenia\n\n
 Odpłatność wynosi:\n\n    a/ 20 zł od osoby członkowie PTTK oraz d
 zieci i młodzież  szkolna na trasę nr I\n\n\nb/ 15 zł od osoby na tra
 sę II oraz III.\n\nc/ 25 zł osoby\, które nie należą do PTTK !!!\n\n
   Wpisowe można wpłacać w autokarze i na mecie rajdu.\n\nW ramach op
 łaty wpisowego uczestnicy mają zapewnione: :\n\n- zwiedzanie Kościołó
 w: w Kleszczewie godz. 10.00\; w Czerlejnie godz. 12.00 !!!!!!!      
                              \n\n- znaczek ra
 jdowy\n\n- ciepły posiłek na mecie\n\n- punkty na OTP \, KOT\n\n- puchar
 y dla najliczniejszych drużyn\n\n- udział w konkursie kostiumowym na „
 Najładniejszą Wiosnę’.\n\nW przypadku zgłoszeń po terminie organiza
 torzy zastrzegają sobie możliwość nie zrealizowania świadczeń.\n\nPo
 stanowienia końcowe:\n\nUbezpieczenie uczestników we własnym zakresie\;
  członkowie PTTK z opłaconą składką na 2025 r. są ubezpieczeni\; ka
 żdy uczestnik odpowiada w pełni za ewentualne szkody wyrządzone na tras
 ie lub na mecie rajdu\; na trasach rowerowych wszyscy powinni posiadać w 
 miarę możliwości kaski oraz przestrzegać przepisów ruchu drogowego\; 
 każda drużyna powinna posiadać apteczkę\; wszyscy są zobowiązani do 
 wykonywania poleceń kierowników tras i kierownictwa rajdu.\n\nRajd jest 
 imprezą rekreacyjno-turystyczną.\n\nInterpretacja regulaminu wyłącznie
  w gestii Komandora Rajdu.\n\n&nbsp\;
ATTACH;FMTTYPE=image/jpeg:https://powiat.poznan.pl/wp-content/uploads/2023
 /05/pttk.jpg
CATEGORIES:Turystyka i rekreacja
LOCATION:Szkoła Podstawowa w Czerlejnie\, ul. Kostrzyńska 4\, Czerlejno\,
  Wielkopolskie\, Poland
GEO:52.3533629;17.21486600000003
X-APPLE-STRUCTURED-LOCATION;VALUE=URI;X-ADDRESS=ul. Kostrzyńska 4\, Czerle
 jno\, Wielkopolskie\, Poland;X-APPLE-RADIUS=100;X-TITLE=Szkoła Podstawowa
  w Czerlejnie:geo:52.3533629,17.21486600000003
END:VEVENT
END:VCALENDAR