BEGIN:VCALENDAR
VERSION:2.0
PRODID:-//wp-events-plugin.com//7.1.7//EN
BEGIN:VEVENT
UID:9315@powiat.poznan.pl
DTSTART:20250831T080000Z
DTEND:20250831T150000Z
DTSTAMP:20250822T092014Z
URL:https://powiat.poznan.pl/events/rajd-z-puszczykowa/
SUMMARY:Rajd z Puszczykowa
DESCRIPTION:31 sierpnia Automobilklub Wielkopolski Delegatura w Mosinie org
 anizuje XX Rajd „Pożegnanie Lata”. – Zabierzemy Was w niezwykłą p
 odróż\, w której motoryzacja spotka się z przygodą\, rywalizacja poł
 ączona z rekreacją\, a piękne okolice Wielkopolski odkryją przed Wami 
 swoje tajemnice. Rajd rozpocznie się w Muzeum Polskiej Motoryzacji w Pusz
 czykowie – miejscu pełnym historii i pasji do czterech kółek. Na pocz
 ątek czeka Was wyjątkowa okazja obejrzenia najnowszej wystawy motocykli 
 oraz samodzielnego zwiedzania muzeum. Ale to dopiero początek\, w trakcie
  wizyty zmierzycie się też z niespodzianką w formie zadania rekreacyjne
 go informują organizatorzy.\n\nTrasa rajdu prowadzić będzie przez urokl
 iwe zakątki Puszczykowa\, Wir\, Komornik\, Plewisk i Skórzewa. – To ni
 e będą tylko znane drogi – przygotowaliśmy dla Was także mniej uczę
 szczane\, klimatyczne trasy\, które pokażą zupełnie inną stronę tych
  miejscowości. Po drodze będziecie musieli szukać odpowiedzi na pytania
 \, rozwiązywać zagadki i wykonywać dodatkowe zadania\, które sprawią\
 , że każdy kilometr będzie pełen emocji. Meta rajdu to legendarne miej
 sce – Tor Poznań! Tam każdy z uczestników spróbuje swoich sił w pr
 óbie samochodowej\, a całość zwieńczymy wspólnym ogniskiem\, gdzie w
  luźnej atmosferze podzielimy się wrażeniami i zakończymy dzień w pra
 wdziwie rajdowym stylu – dodają. Rajd organizowany jest przy wsparciu f
 inansowym powiatu poznańskiego. Szczegóły i zapisy na stronie www.aw.po
 znan.pl\n\n
ATTACH;FMTTYPE=image/jpeg:https://powiat.poznan.pl/wp-content/uploads/2025
 /08/xxrpz_land2.png
CATEGORIES:Dla dzieci,Dla seniora,Rozrywka,Społeczne,Turystyka i
 rekreacja
LOCATION:Puszczykowo\, Puszczykowo\, Puszczykowo\, Poland
GEO:52.2866049;16.849486899999988
X-APPLE-STRUCTURED-LOCATION;VALUE=URI;X-ADDRESS=Puszczykowo\, Puszczykowo\,
  Poland;X-APPLE-RADIUS=100;X-TITLE=Puszczykowo:geo:52.2866049,16.849486899
 999988
END:VEVENT
END:VCALENDAR