BEGIN:VCALENDAR
VERSION:2.0
PRODID:-//wp-events-plugin.com//7.1.7//EN
BEGIN:VEVENT
UID:8299@powiat.poznan.pl
DTSTART:20240901T094500Z
DTEND:20240901T094500Z
DTSTAMP:20240828T082708Z
URL:https://powiat.poznan.pl/events/rocznica-wybuchu-ii-wojny-swiatowej-w-
 murowanej-goslinie/
SUMMARY:Rocznica wybuchu II wojny światowej w Murowanej Goślinie
DESCRIPTION:85 rocznica wybuchu II wojny światowej\nWięcej informacji na 
 murowana-goslina.pl\n\n
ATTACH;FMTTYPE=image/jpeg:https://powiat.poznan.pl/wp-content/uploads/2024
 /08/obchody-ii-wojny-swiatowej-w-mg.jpg
CATEGORIES:Uroczystości
LOCATION:Kościół pw. św. Jakuba Apostoła w Murowanej Goślinie\, Plac 
 Powstańców Wielkopolskich 21\, 62-095 Murowana Goślina\, Poland
GEO:52.576047;17.009499
X-APPLE-STRUCTURED-LOCATION;VALUE=URI;X-ADDRESS=Plac Powstańców Wielkopol
 skich 21\, 62-095 Murowana Goślina\, Poland;X-APPLE-RADIUS=100;X-TITLE=Ko
 ściół pw. św. Jakuba Apostoła w Murowanej Goślinie:geo:52.576047,17.
 009499
END:VEVENT
END:VCALENDAR