BEGIN:VCALENDAR
VERSION:2.0
PRODID:-//wp-events-plugin.com//7.1.7//EN
BEGIN:VEVENT
UID:9599@powiat.poznan.pl
DTSTART:20260328T170000Z
DTEND:20260328T190000Z
DTSTAMP:20260204T092624Z
URL:https://powiat.poznan.pl/events/rodzina-to-jest-sila-kabaretu-chyba/
SUMMARY:Rodzina to jest siła! Kabaretu Chyba
DESCRIPTION:Rodzina to jest siła! - Kabaret Chyba powraca z nowym programe
 m pełnym świeżych skeczy i piosenek! Śmiech gwarantowany – bo czy mo
 żna żyć bez rodziny… i szwagra? Nie przegap tej komediowej petardy!\n
 \n“Rodzina to jest siła! “ śpiewała kiedyś Kayah i artyści z Kaba
 retu Chyba wzięli to sobie do serca - tak brzmi tytuł ich najnowszego pr
 ogramu! Po sukcesie spektaklu “Cztery” Chyby ruszają w Polskę z abso
 lutnie nowymi skeczami i piosenkami. A z czego będziemy się śmiać? Z t
 ego co dla każdego Polaka jest najważniejsze! Rodzina\, ach rodzina… C
 zasem wkurza\, czasem śmieszy\, ale jest! Kabaret Chyba rozłoży na czyn
 niki pierwsze rodzinne relacje. Spróbuje odpowiedzieć na najważniejsze 
 pytania: kto tak naprawdę jest głową rodziny? Do kogo w tym roku pojedz
 iemy na święta? Czy warto iść na swoje? A jeśli warto\, to za co? No 
 i czy może istnieć rodzina bez instytucji szwagra?\n\nW nowym programie 
 nie zabraknie tego\, co fani kabaretu Chyba lubią najbardziej - Bożeny i
  Bogdana\, czyli niebanalnego\, ale jakże typowego polskiego małżeństw
 a. Pojawią się też rodzime gwiazdy showbiznesu oraz zabawne i znakomici
 e wykonane piosenki. Do tego mnóstwo dobrej energii oraz duża dawka impr
 owizacji. Na najnowszy program zapraszamy absolutnie wszystkich - bo przec
 ież wszyscy Polacy to jedna… rodzina. Występ zaplanowano na 28 marc.a 
 o godz. 18.00 - Swarzędzka Sala Koncertowa w Zalasewie.\n\n
ATTACH;FMTTYPE=image/jpeg:https://powiat.poznan.pl/wp-content/uploads/2026
 /02/613092064_1319198370249539_695434782588021285_n.jpg
CATEGORIES:Rozrywka
LOCATION:Swarzędzka Sala Koncertowa w Zalasewie\, ul. Jana Heweliusza 26\,
  Zalasewo\, Poland
GEO:52.3838708;17.067754299999933
X-APPLE-STRUCTURED-LOCATION;VALUE=URI;X-ADDRESS=ul. Jana Heweliusza 26\, Za
 lasewo\, Poland;X-APPLE-RADIUS=100;X-TITLE=Swarzędzka Sala Koncertowa w Z
 alasewie:geo:52.3838708,17.067754299999933
END:VEVENT
END:VCALENDAR