BEGIN:VCALENDAR
VERSION:2.0
PRODID:-//wp-events-plugin.com//7.1.7//EN
BEGIN:VEVENT
UID:8965@powiat.poznan.pl
DTSTART:20250614T173000Z
DTEND:20250614T173000Z
DTSTAMP:20250505T141350Z
URL:https://powiat.poznan.pl/events/senioritki-w-dworze-skrzynki/
SUMMARY:Senioritki w Dworze Skrzynki
DESCRIPTION:Senioritki w Dworze Skrzynki\n\nPrzebojowe „Poznańskie Senio
 ritki” zaśpiewają w Dworze Skrzynki. Śpiewają od ponad 10 lat. Bardz
 o szybko stały się muzycznym symbolem poznańskich seniorek – aktywnyc
 h\, zaangażowanych\, czerpiących radość ze wspólnego muzykowania i re
 alizowania pasji\, na które kiedyś nie miały czasu. 14 czerwca o godz. 
 18:30 zaśpiewają w Dworze Skrzynki „Piosenki z kuferka”. Będzie rad
 ośnie i bardzo przebojowo. Wstęp na koncert jest wolny – prosimy jedna
 k o wcześniejszą rezerwację miejsc – mailowo na kontakt@dworskrzynki.
 pl lub telefonicznie pod numerem 533 123 174. Ilość miejsc jest ogranicz
 ona.\n\nPrzypomnijmy\, że Chór Kameralny Poznańskie Senioritki powstał
  z inicjatywy dyrygentki Ewy Wodzyńskiej. Panie\, które początkowo chci
 ały po prostu aktywnie spędzać czas\, z ogromnym sukcesem wkroczyły na
  polską scenę muzyczną. To po prostu wielobarwny „sukces po poznańsk
 u”\, który dokonał się u boku takich muzycznych sław jak Dawid Podsi
 adło czy raper Łona. Chór dał kilkaset koncertów\, dzięki czemu sta
 ł się w kraju i za granicą kolorową wizytówką amatorskiego ruchu art
 ystycznego. Chór koncertował między innymi w Czechach\, Niemczech\, Gre
 cji\, na Litwie oraz na Sardynii. Koncerty zespołu składają się z muzy
 cznych perełek światowej muzyki rozrywkowej\, poczynając od lat 20-tych
  ubiegłego wieku\, aż do współczesności. Wszystkie utwory przygotowan
 e są w bardzo ciekawych i unikalnych aranżacjach przez Ewę Wodzyńską.
  Energetyczne w warstwie zarówno muzycznej jak i wizualnej show sprawia\,
  że każdy niezależnie od wieku znajdzie tutaj radość i dobrą zabawę
 .\n\nPrzygotował: Instytut Skrzynki\n\n
ATTACH;FMTTYPE=image/jpeg:https://powiat.poznan.pl/wp-content/uploads/2025
 /05/1-1.jpg
CATEGORIES:Kultura i sztuka
LOCATION:Dwór Skrzynki\, Plac Parkowy 1\, Skrzynki\, gm. Stęszew\, 62-060
 \, Poland
GEO:52.342096;16.606405
X-APPLE-STRUCTURED-LOCATION;VALUE=URI;X-ADDRESS=Plac Parkowy 1\, Skrzynki\,
  gm. Stęszew\, 62-060\, Poland;X-APPLE-RADIUS=100;X-TITLE=Dwór Skrzynki:
 geo:52.342096,16.606405
END:VEVENT
END:VCALENDAR