BEGIN:VCALENDAR
VERSION:2.0
PRODID:-//wp-events-plugin.com//7.1.7//EN
BEGIN:VEVENT
UID:9100@powiat.poznan.pl
DTSTART:20250526T160000Z
DTEND:20250526T170000Z
DTSTAMP:20250522T095843Z
URL:https://powiat.poznan.pl/events/sigma-przestrzen-mlodych/
SUMMARY:Sigma-Przestrzeń młodych
DESCRIPTION:
ATTACH;FMTTYPE=image/jpeg:https://powiat.poznan.pl/wp-content/uploads/2025
 /05/b4.jpg
CATEGORIES:Dla dzieci,Kultura i sztuka,Rozrywka,Społeczne,Warsztaty
LOCATION:Kino Wielkopolanin w Buku\, plac Reszki 30\, Buk\, Poland
GEO:52.357459;16.519471899999985
X-APPLE-STRUCTURED-LOCATION;VALUE=URI;X-ADDRESS=plac Reszki 30\, Buk\, Pola
 nd;X-APPLE-RADIUS=100;X-TITLE=Kino Wielkopolanin w Buku:geo:52.357459,16.5
 19471899999985
END:VEVENT
END:VCALENDAR