BEGIN:VCALENDAR
VERSION:2.0
PRODID:-//wp-events-plugin.com//7.1.7//EN
BEGIN:VEVENT
UID:9640@powiat.poznan.pl
DTSTART:20260314T073000Z
DTEND:20260314T163000Z
DTSTAMP:20260225T104614Z
URL:https://powiat.poznan.pl/events/skrzaty-i-zaki-zagraja-w-suchary-cup-2
 026/
SUMMARY:Skrzaty i Żaki zagrają w Suchary Cup 2026
DESCRIPTION:14 marca w Hali Sportowo-Widowiskowej w Suchym Lesie odbędzie 
 się Turniej Skrzatów i Żaków – Suchary Cup 2026. Wydarzenie jest wsp
 ółfinansowane ze środków powiatu poznańskiego.\n\n\n\n&nbsp\;
ATTACH;FMTTYPE=image/jpeg:https://powiat.poznan.pl/wp-content/uploads/2026
 /02/2.png
CATEGORIES:Dla dzieci,Społeczne,Sport
LOCATION:Hala GOS Suchy Las\, ul. Szkolna 20\, Suchy Las\, Poland
GEO:52.474972;16.87264140000002
X-APPLE-STRUCTURED-LOCATION;VALUE=URI;X-ADDRESS=ul. Szkolna 20\, Suchy Las\
 , Poland;X-APPLE-RADIUS=100;X-TITLE=Hala GOS Suchy Las:geo:52.474972,16.87
 264140000002
END:VEVENT
END:VCALENDAR