BEGIN:VCALENDAR
VERSION:2.0
PRODID:-//wp-events-plugin.com//7.1.7//EN
BEGIN:VEVENT
UID:8949@powiat.poznan.pl
DTSTART;VALUE=DATE:20250510
DTEND;VALUE=DATE:20250511
DTSTAMP:20250430T103519Z
URL:https://powiat.poznan.pl/events/sladami-regionalizmu/
SUMMARY:Śladami regionalizmu
DESCRIPTION:Śladami regionalizmu\nTowarzystwo Miłośników Ziemi Swarzęd
 zkiej zaprasza na rajd pod nazwą „Śladami Regionalizmu w Wielkopolsce
 ”. Imprezę zaplanowano na sobotę\, 10 maja. W programie m.in. zwiedzan
 ie z przewodnikiem Muzeum w Śmiełowie oraz Żerkowa i jego okolic. Ze wz
 ględu na ograniczoną ilość miejsc decyduje kolejność zgłoszeń jedn
 ocześnie z wpłatą wpisowego. Więcej informacji w załączniku.\n\nŚla
 dami Regionalizmu w Wielkopolsce\n
ATTACH;FMTTYPE=image/jpeg:https://powiat.poznan.pl/wp-content/uploads/2014
 /11/PTTK.jpg
CATEGORIES:Turystyka i rekreacja
LOCATION:Żerków\, Żerków\, 63-210 Żerków\, Poland
GEO:52.068517;17.562915
X-APPLE-STRUCTURED-LOCATION;VALUE=URI;X-ADDRESS=Żerków\, 63-210 Żerków\
 , Poland;X-APPLE-RADIUS=100;X-TITLE=Żerków:geo:52.068517,17.562915
END:VEVENT
END:VCALENDAR