BEGIN:VCALENDAR
VERSION:2.0
PRODID:-//wp-events-plugin.com//7.1.7//EN
BEGIN:VEVENT
UID:9121@powiat.poznan.pl
DTSTART:20250607T180000Z
DTEND:20250607T210000Z
DTSTAMP:20250523T123322Z
URL:https://powiat.poznan.pl/events/smolen-wiecznie-zywy-1/
SUMMARY:Smoleń wiecznie żywy (1)
DESCRIPTION:Stowarzyszenie Zostań Gwiazdą Kabaretu zaprasza na cykl wydar
 zeń artystycznych pn: "SMOLEŃ WIECZNIE ŻYWY" w dniach 7-8.06.2025 i 15.
 06.2025. Zadanie jest współfinansowane ze środków budżetu Samorządu 
 Wielkopolskiego\, Powiatu Poznańskiego\, Miasta Poznania. Patronat honoro
 wy nad wydarzeniem sprawują: Marszałek Województwa Wielkopolskiego Mare
 k Woźniak\, Starosta Poznański Jan Grabkowski\, Prezydent Miasta Poznani
 a Jacek Jaśkowiak.\n\nXXIII Festiwal Zostań Gwiazdą Kabaretu im. Bohdan
 a Smolenia w Scenie Wspólnej w Poznaniu\, ul. Brandstaettera 1 (wejście 
 od ul. Za Cytadelą)\n\n7 czerwca 2025\, godzina 19:00 - spektakl improwiz
 owany pt. "SEX IMPRO ROCK&amp\;ROLL\, czyli historia pewnego zespołu"\, z
  udziałem Teatru Komedii Impro w Łodzi\, Ścibora Szpaka\, Układu Komed
 iowego i kabaretu Konkubenci.\nBILETY 100 zł\nhttps://www.bilety24.pl/kup
 -bilet-na-847-sex-impro-rock-roll-czyli-historia-pewnego-zespolu-126454?id
 =738655#overall\n\nDynamiczny i nieprzewidywalny spektakl łączący odwa
 żny humor\, improwizację na żywo i energię rock’n’rolla. Niespodzi
 ewany i bardzo poważny kryzys w pewnym zakładzie pracy to spiritus moven
 s do powstania zespołu muzycznego i uratowania firmy przed bankructwem. J
 akie hity zabrzmią podczas spektaklu? O tym zdecydują widzowie! Czy amat
 orski zespół zdoła podbić serca słuchaczy i odnieść sukces niczym A
 bba\, Queen\, Lady Pank\, a może Buena Vista Social Club? Czy „śpiewa
 ć każdy może”?\n\n\n\n&nbsp\;\n\n&nbsp\;
ATTACH;FMTTYPE=image/jpeg:https://powiat.poznan.pl/wp-content/uploads/2025
 /05/07.jpg
CATEGORIES:Kultura i sztuka,Rozrywka,Uroczystości
LOCATION:Scena wspólna\, ul. Brandstaettera 1\, Poznań\, Poland
GEO:52.425419;16.93518
X-APPLE-STRUCTURED-LOCATION;VALUE=URI;X-ADDRESS=ul. Brandstaettera 1\, Pozn
 ań\, Poland;X-APPLE-RADIUS=100;X-TITLE=Scena wspólna:geo:52.425419,16.93
 518
END:VEVENT
END:VCALENDAR