BEGIN:VCALENDAR
VERSION:2.0
PRODID:-//wp-events-plugin.com//7.1.7//EN
BEGIN:VEVENT
UID:3677@powiat.poznan.pl
DTSTART:20190525T140000Z
DTEND:20190525T190000Z
DTSTAMP:20190523T101535Z
URL:https://powiat.poznan.pl/events/solecka-majowka/
SUMMARY:Sołecka Majówka
DESCRIPTION:Sołecka Majówka na Zdrojach
ATTACH;FMTTYPE=image/jpeg:https://powiat.poznan.pl/wp-content/uploads/2019
 /05/2-12.jpg
CATEGORIES:Rozrywka
LOCATION:Plac zabaw w Czerwonaku\, ul. Zdroje\, Czerwonak\, 62-004\, Poland
GEO:52.470789;16.99951
X-APPLE-STRUCTURED-LOCATION;VALUE=URI;X-ADDRESS=ul. Zdroje\, Czerwonak\, 62
 -004\, Poland;X-APPLE-RADIUS=100;X-TITLE=Plac zabaw w Czerwonaku:geo:52.47
 0789,16.99951
END:VEVENT
END:VCALENDAR