BEGIN:VCALENDAR
VERSION:2.0
PRODID:-//wp-events-plugin.com//7.1.7//EN
BEGIN:VEVENT
UID:9238@powiat.poznan.pl
DTSTART:20250812T170000Z
DTEND:20250812T190000Z
DTSTAMP:20250710T083006Z
URL:https://powiat.poznan.pl/events/spacer-po-zdrowie-10/
SUMMARY:Spacer po zdrowie
DESCRIPTION:Spacer po zdrowie\n\n \n\n&nbsp\;
ATTACH;FMTTYPE=image/jpeg:https://powiat.poznan.pl/wp-content/uploads/2025
 /07/1-4.jpg
CATEGORIES:Turystyka i rekreacja
LOCATION:parking osowa góra\, parking Osowa Góra\, Osowa Góra\, Poland
GEO:53.151189;17.907496
X-APPLE-STRUCTURED-LOCATION;VALUE=URI;X-ADDRESS=parking Osowa Góra\, Osowa
  Góra\, Poland;X-APPLE-RADIUS=100;X-TITLE=parking osowa góra:geo:53.1511
 89,17.907496
END:VEVENT
END:VCALENDAR