BEGIN:VCALENDAR
VERSION:2.0
PRODID:-//wp-events-plugin.com//7.1.7//EN
BEGIN:VEVENT
UID:9263@powiat.poznan.pl
DTSTART:20250810T140000Z
DTEND:20250810T160000Z
DTSTAMP:20250801T093323Z
URL:https://powiat.poznan.pl/events/spacer-z-historia-w-buku/
SUMMARY:Spacer z historią w Buku
DESCRIPTION:10 sierpnia o godz. 15:00 rozpocznie się w Buku spacer z histo
 rią “Przystanek Buk – królowe i królowie”. Podczas wydarzenia bę
 dzie można się dowiedzieć jakie koronowane głowy pojawiają się na ka
 rtach historii Buku oraz z jakimi królami bukowianie zawierali kontrakty\
 , a którym odmawiali.\n\nStart przy Sanktuarium MB Literackiej w Buku. Cz
 as spaceru około 2 godzin. Dla najmłodszych organizatorzy przygotują ko
 rony\, a dla wszystkich poczęstunek w królewskiej komnacie!\n\n
ATTACH;FMTTYPE=image/jpeg:https://powiat.poznan.pl/wp-content/uploads/2025
 /08/przystanek-buk.png
CATEGORIES:Dla dzieci,Dla seniora,Edukacja,Kultura i sztuka
LOCATION:Sanktuarium Matki Bożej Bukowskiej Literackiej w Buku\, Sanktuari
 um Matki Bożej Bukowskiej Literackiej w Buku\, Buk\, Poland
GEO:52.3564722;16.518716900000072
X-APPLE-STRUCTURED-LOCATION;VALUE=URI;X-ADDRESS=Sanktuarium Matki Bożej Bu
 kowskiej Literackiej w Buku\, Buk\, Poland;X-APPLE-RADIUS=100;X-TITLE=Sank
 tuarium Matki Bożej Bukowskiej Literackiej w Buku:geo:52.3564722,16.51871
 6900000072
END:VEVENT
END:VCALENDAR