BEGIN:VCALENDAR
VERSION:2.0
PRODID:-//wp-events-plugin.com//7.1.7//EN
BEGIN:VEVENT
UID:8990@powiat.poznan.pl
DTSTART:20250510T100000Z
DTEND:20250510T100000Z
DTSTAMP:20250507T093353Z
URL:https://powiat.poznan.pl/events/spektakl-dla-dzieci-19/
SUMMARY:Spektakl dla dzieci
DESCRIPTION:Z okazji 10-lecia współpracy teatru Mozaika z Przemkiem Mazur
 kiem – autorem tekstów i muzyki dla dzieci i dorosłych – zapraszamy 
 na wyjątkowy\, jubileuszowy koncert rodzinny! Więcej na gok.komorniki.pl
 \n\n
ATTACH;FMTTYPE=image/jpeg:https://powiat.poznan.pl/wp-content/uploads/2025
 /05/bantay_church_bell_tower_5-scaled.jpg
CATEGORIES:Dla dzieci,Kultura i sztuka,Rozrywka
LOCATION:CTK - Centrum Tradycji i Kultury Gminy Komorniki\, Kościelna 37\,
  Komorniki\, Wielkopolskie\, Poland
GEO:52.336634;16.801131
X-APPLE-STRUCTURED-LOCATION;VALUE=URI;X-ADDRESS=Kościelna 37\, Komorniki\,
  Wielkopolskie\, Poland;X-APPLE-RADIUS=100;X-TITLE=CTK - Centrum Tradycji 
 i Kultury Gminy Komorniki:geo:52.336634,16.801131
END:VEVENT
END:VCALENDAR