BEGIN:VCALENDAR
VERSION:2.0
PRODID:-//wp-events-plugin.com//7.1.7//EN
BEGIN:VEVENT
UID:8564@powiat.poznan.pl
DTSTART:20241027T170000Z
DTEND:20241027T170000Z
DTSTAMP:20241025T123052Z
URL:https://powiat.poznan.pl/events/spektakl-grupy-teatralnej-teges-w-pusz
 czykowie-2/
SUMMARY:Spektakl Grupy Teatralnej Teges w Puszczykowie
DESCRIPTION:Spektakl Grupy Teatralnej Teges - Jeszcze wino niedopite\nWięc
 ej informacji na puszczykowo.pl\n
ATTACH;FMTTYPE=image/jpeg:https://powiat.poznan.pl/wp-content/uploads/2024
 /10/spektakl_teges_puszczykowo.jpg
CATEGORIES:Kultura i sztuka
LOCATION:Hala Widowiskowo - Sportowa w Puszczykowie\, ul. Podgórna 21\, Pu
 szczykowo\, Poland
GEO:52.30556120000001;16.869176100000004
X-APPLE-STRUCTURED-LOCATION;VALUE=URI;X-ADDRESS=ul. Podgórna 21\, Puszczyk
 owo\, Poland;X-APPLE-RADIUS=100;X-TITLE=Hala Widowiskowo - Sportowa w Pusz
 czykowie:geo:52.30556120000001,16.869176100000004
END:VEVENT
END:VCALENDAR