BEGIN:VCALENDAR
VERSION:2.0
PRODID:-//wp-events-plugin.com//7.1.7//EN
BEGIN:VEVENT
UID:3471@powiat.poznan.pl
DTSTART:20190525T170000Z
DTEND:20190525T190000Z
DTSTAMP:20190419T085159Z
URL:https://powiat.poznan.pl/events/spektakl-supermenka-2/
SUMMARY:Spektakl Supermenka
DESCRIPTION:Spektakl Supermenka w wykonaniu Jowity Budnik
ATTACH;FMTTYPE=image/jpeg:https://powiat.poznan.pl/wp-content/uploads/2019
 /04/supermenka.jpg
CATEGORIES:Kultura i sztuka
LOCATION:Centrum Kultury i Biblioteka Publiczna Gminy Suchy Las\, ul. Szkol
 na 16\, Suchy Las\, 62-002\, Poland
GEO:52.562464;16.798811900000032
X-APPLE-STRUCTURED-LOCATION;VALUE=URI;X-ADDRESS=ul. Szkolna 16\, Suchy Las\
 , 62-002\, Poland;X-APPLE-RADIUS=100;X-TITLE=Centrum Kultury i Biblioteka 
 Publiczna Gminy Suchy Las:geo:52.562464,16.798811900000032
END:VEVENT
END:VCALENDAR