BEGIN:VCALENDAR
VERSION:2.0
PRODID:-//wp-events-plugin.com//7.1.7//EN
BEGIN:VEVENT
UID:9246@powiat.poznan.pl
DTSTART:20250720T120000Z
DTEND:20250720T120000Z
DTSTAMP:20250718T071128Z
URL:https://powiat.poznan.pl/events/spektakl-teatru-wariate-2/
SUMMARY:Spektakl Teatru Wariate
DESCRIPTION:Dwór Skrzynki 20 lipca (nowy termin!)\, o godz. 13.00 zaprasza
  dzieci na spektakl przygotowany specjalnie dla nich przez Teatr Wariate. 
 Spektakl „Wikingowie z ulicy Północnej” zrealizowany na podstawie te
 kstu Maliny Prześlugi\, inspirowany jest opowieściami i legendami z pó
 łnocnych krajów Europy. Dzieci poznają historie zakorzenione w nordycki
 ch kulturach. Poznają norweskie słowa\, zwyczaje oraz dowiadują się\, 
 że odwaga nie jest cechą tylko chłopców. W tę teatralną podróż wyr
 uszają bowiem wraz z główną bohaterką – Wiktorią. Oprócz tego spe
 ktakl niesie wiele uniwersalnych przesłań. Mówi o samotności\, przyja
 źni\, o odwadze i niepoddawaniu się przeszkodom\, wreszcie o miłości. 
 Przedstawienie przeznaczone jest dla widzów od czwartego roku życia. Spe
 ktakl „Wikingowie z ulicy Północnej” wyreżyserowali Sylwia Koroncze
 wska-Cyris i Marek Cyris.\n\n
ATTACH;FMTTYPE=image/jpeg:https://powiat.poznan.pl/wp-content/uploads/2025
 /06/zmiana-terminu-kwadrat.jpg
CATEGORIES:Dla dzieci,Kultura i sztuka
LOCATION:Dwór Skrzynki\, Plac Parkowy 1\, Skrzynki\, gm. Stęszew\, 62-060
 \, Poland
GEO:52.342096;16.606405
X-APPLE-STRUCTURED-LOCATION;VALUE=URI;X-ADDRESS=Plac Parkowy 1\, Skrzynki\,
  gm. Stęszew\, 62-060\, Poland;X-APPLE-RADIUS=100;X-TITLE=Dwór Skrzynki:
 geo:52.342096,16.606405
END:VEVENT
END:VCALENDAR