BEGIN:VCALENDAR
VERSION:2.0
PRODID:-//wp-events-plugin.com//7.1.7//EN
BEGIN:VEVENT
UID:9581@powiat.poznan.pl
DTSTART:20260313T170000Z
DTEND:20260313T190000Z
DTSTAMP:20260203T070209Z
URL:https://powiat.poznan.pl/events/spotkanie-autorskie-z-ilona-wisniewska
 /
SUMMARY:Spotkanie autorskie z Iloną Wiśniewską
DESCRIPTION:Ilona Wiśniewska – polska reportażystka\, fotografka i auto
 rka książek. Jej zainteresowania skupiają się głównie na polarnych o
 bszarach świata\, a relacje i fotografie mają głęboki wpływ na czytel
 ników. Obecnie mieszka w północnej Norwegii\, gdzie czerpie inspiracje 
 do swojej twórczości\, a pochodzi z Prószkowa koło Opola. Z wykształc
 enia jest polonistką i fototechnikiem. Znamy ją z takich książek repor
 terskich jak Białe. Zimna wyspa Spitsbergen (2014)\, Hen. Na północy No
 rwegii (2016)\, Lud. Z grenlandzkiej wyspy (2018)\, Migot. Z krańca Grenl
 andii (2022)\, Hjem. Na północnych wyspach (2025)\, a także opowieści 
 dla dzieci Przyjaciel Północy.\n\nJej prace zdobyły uznanie wielu czyte
 lników i krytyków\, co zaowocowało prestiżowymi nagrodami i nominacjam
 i. Książka Białe. Zimna wyspa Spitsbergen przyniosła jej nominację do
  nagrody Newsweeka im. Teresy Torańskiej oraz tytuł Kobiety Roku 2015. Z
 a Hen. Na północy Norwegii została uhonorowana nagrodą Traveler Nation
 al Geographic w kategorii podróżniczej książki roku 2017\, nagrodą w 
 konkursie Travelery i nominacją do Nagrody im. Beaty Pawlak. Dodatkowo ks
 iążka Lud zaowocowała Nagrodą Prezydenta Lublina – Kryształową Kar
 tą Polskiego Reportażu a Migot nagrodą Grand Press w kategorii Książk
 i Reporterskiej Roku.\n\nCentrum Kultury i Biblioteka Publiczna Gminy Such
 y Las serdecznie wszystkich zaprasza na spotkanie autorskie z Iloną Wiśn
 iewską\, które odbędzie się 13 marca 2026 o godzinie 18.00. Poprowadzi
  je Krzysztof Mączkowski. Wstęp na spotkanie jest bezpłatny. Wejściów
 ki są dostępne w Bibliotece Publicznej w Suchym Lesie\, filii bibliotecz
 nej w Złotnikach i Chludowie.\n\nŹródło fotografii : Birger Amundsen\n
 \n
ATTACH;FMTTYPE=image/jpeg:https://powiat.poznan.pl/wp-content/uploads/2026
 /02/szyld-spotkania.png
CATEGORIES:Wykład
LOCATION:Centrum Kultury i Biblioteka Publiczna Gminy Suchy Las\, ul. Szkol
 na 16\, Suchy Las\, 62-002\, Poland
GEO:52.562464;16.798811900000032
X-APPLE-STRUCTURED-LOCATION;VALUE=URI;X-ADDRESS=ul. Szkolna 16\, Suchy Las\
 , 62-002\, Poland;X-APPLE-RADIUS=100;X-TITLE=Centrum Kultury i Biblioteka 
 Publiczna Gminy Suchy Las:geo:52.562464,16.798811900000032
END:VEVENT
END:VCALENDAR